BEGIN:VCALENDAR
VERSION:2.0
PRODID:-//candle.fmph.uniba.sk//NONSGML kigkonsult.se iCalcreator 2.16.12//
METHOD:PUBLISH
X-WR-CALNAME:X. Poslon
X-WR-CALDESC:Rozvrh hodín vyexportovaný pomocou Candle\, https://github.com
 /fmfi-svt/candle
X-WR-TIMEZONE:Europe/Bratislava
BEGIN:VEVENT
UID:lesson(560)-semester(022026-052026)-candle@candle.fmph.uniba.sk
DTSTAMP:20260424T193159Z
CATEGORIES:Kurz
DESCRIPTION:Kurz\n\nVyučujúci:\n - X. Poslon\n
DTSTART;TZID=Europe/Bratislava:20260217T163000
DTEND;TZID=Europe/Bratislava:20260217T184500
LOCATION:I-8
RRULE:FREQ=WEEKLY;UNTIL=20260523T000000Z
SUMMARY:Social Cognition
END:VEVENT
END:VCALENDAR
