BEGIN:VCALENDAR
VERSION:2.0
PRODID:-//candle.fmph.uniba.sk//NONSGML kigkonsult.se iCalcreator 2.16.12//
METHOD:PUBLISH
X-WR-CALNAME:V. Haverlíková
X-WR-CALDESC:Rozvrh hodín vyexportovaný pomocou Candle\, https://github.com
 /fmfi-svt/candle
X-WR-TIMEZONE:Europe/Bratislava
BEGIN:VEVENT
UID:lesson(97)-semester(022026-052026)-candle@candle.fmph.uniba.sk
DTSTAMP:20260424T193310Z
CATEGORIES:Prednáška
DESCRIPTION:Prednáška\n\nVyučujúci:\n - V. Haverlíková\n
DTSTART;TZID=Europe/Bratislava:20260216T081000
DTEND;TZID=Europe/Bratislava:20260216T094000
LOCATION:F1-109
RRULE:FREQ=WEEKLY;UNTIL=20260523T000000Z
SUMMARY:Základy fyziky (2)
END:VEVENT
BEGIN:VEVENT
UID:lesson(129)-semester(022026-052026)-candle@candle.fmph.uniba.sk
DTSTAMP:20260424T193310Z
CATEGORIES:Prednáška
DESCRIPTION:Prednáška\n\nVyučujúci:\n - V. Haverlíková\n
DTSTART;TZID=Europe/Bratislava:20260216T081000
DTEND;TZID=Europe/Bratislava:20260216T094000
LOCATION:F1-109
RRULE:FREQ=WEEKLY;UNTIL=20260523T000000Z
SUMMARY:Základy fyziky (2)
END:VEVENT
BEGIN:VEVENT
UID:lesson(706)-semester(022026-052026)-candle@candle.fmph.uniba.sk
DTSTAMP:20260424T193310Z
CATEGORIES:Kurz
DESCRIPTION:Kurz\n\nVyučujúci:\n - V. Haverlíková\n
DTSTART;TZID=Europe/Bratislava:20260216T095000
DTEND;TZID=Europe/Bratislava:20260216T120500
LOCATION:F1-145
RRULE:FREQ=WEEKLY;UNTIL=20260523T000000Z
SUMMARY:Dizajn neformálneho a informálneho fyzikálneho vzdelávania
END:VEVENT
BEGIN:VEVENT
UID:lesson(103)-semester(022026-052026)-candle@candle.fmph.uniba.sk
DTSTAMP:20260424T193310Z
CATEGORIES:Prednáška
DESCRIPTION:Prednáška\n\nVyučujúci:\n - V. Haverlíková\n
DTSTART;TZID=Europe/Bratislava:20260218T163000
DTEND;TZID=Europe/Bratislava:20260218T180000
LOCATION:Ch1-2
RRULE:FREQ=WEEKLY;UNTIL=20260523T000000Z
SUMMARY:Fyzika
END:VEVENT
BEGIN:VEVENT
UID:lesson(389)-semester(022026-052026)-candle@candle.fmph.uniba.sk
DTSTAMP:20260424T193310Z
CATEGORIES:Prednáška
DESCRIPTION:Prednáška\n\nVyučujúci:\n - V. Haverlíková\n
DTSTART;TZID=Europe/Bratislava:20260219T081000
DTEND;TZID=Europe/Bratislava:20260219T085500
LOCATION:F1-145
RRULE:FREQ=WEEKLY;UNTIL=20260523T000000Z
SUMMARY:Didaktika fyziky (2)
END:VEVENT
BEGIN:VEVENT
UID:lesson(390)-semester(022026-052026)-candle@candle.fmph.uniba.sk
DTSTAMP:20260424T193310Z
CATEGORIES:Cvičenie
DESCRIPTION:Cvičenie\n\nVyučujúci:\n - V. Haverlíková\n
DTSTART;TZID=Europe/Bratislava:20260219T090000
DTEND;TZID=Europe/Bratislava:20260219T094500
LOCATION:F1-145
RRULE:FREQ=WEEKLY;UNTIL=20260523T000000Z
SUMMARY:Didaktika fyziky (2)
END:VEVENT
END:VCALENDAR
