BEGIN:VCALENDAR
VERSION:2.0
PRODID:-//candle.fmph.uniba.sk//NONSGML kigkonsult.se iCalcreator 2.16.12//
METHOD:PUBLISH
X-WR-CALNAME:T. Kozánek Kiss
X-WR-CALDESC:Rozvrh hodín vyexportovaný pomocou Candle\, https://github.com
 /fmfi-svt/candle
X-WR-TIMEZONE:Europe/Bratislava
BEGIN:VEVENT
UID:lesson(57)-semester(022026-052026)-candle@candle.fmph.uniba.sk
DTSTAMP:20260424T212545Z
CATEGORIES:Prednáška
DESCRIPTION:Prednáška\n\nVyučujúci:\n - T. Kozánek Kiss\n
DTSTART;TZID=Europe/Bratislava:20260217T145000
DTEND;TZID=Europe/Bratislava:20260217T153500
LOCATION:F1-321
RRULE:FREQ=WEEKLY;UNTIL=20260523T000000Z
SUMMARY:Školský manažment
END:VEVENT
BEGIN:VEVENT
UID:lesson(58)-semester(022026-052026)-candle@candle.fmph.uniba.sk
DTSTAMP:20260424T212545Z
CATEGORIES:Seminár
DESCRIPTION:Seminár\n\nVyučujúci:\n - T. Kozánek Kiss\n
DTSTART;TZID=Europe/Bratislava:20260217T154000
DTEND;TZID=Europe/Bratislava:20260217T171000
LOCATION:F1-321
RRULE:FREQ=WEEKLY;UNTIL=20260523T000000Z
SUMMARY:Školský manažment
END:VEVENT
BEGIN:VEVENT
UID:lesson(397)-semester(022026-052026)-candle@candle.fmph.uniba.sk
DTSTAMP:20260424T212545Z
CATEGORIES:Seminár
DESCRIPTION:Seminár\n\nVyučujúci:\n - T. Kozánek Kiss\n
DTSTART;TZID=Europe/Bratislava:20260217T172000
DTEND;TZID=Europe/Bratislava:20260217T185000
LOCATION:F2-126
RRULE:FREQ=WEEKLY;UNTIL=20260523T000000Z
SUMMARY:Seminár k bakalárskej práci (2)
END:VEVENT
BEGIN:VEVENT
UID:lesson(100)-semester(022026-052026)-candle@candle.fmph.uniba.sk
DTSTAMP:20260424T212545Z
CATEGORIES:Cvičenie
DESCRIPTION:Cvičenie\n\nVyučujúci:\n - T. Kozánek Kiss\n
DTSTART;TZID=Europe/Bratislava:20260218T081000
DTEND;TZID=Europe/Bratislava:20260218T094000
LOCATION:F2
RRULE:FREQ=WEEKLY;UNTIL=20260523T000000Z
SUMMARY:Základy fyziky (2)
END:VEVENT
BEGIN:VEVENT
UID:lesson(130)-semester(022026-052026)-candle@candle.fmph.uniba.sk
DTSTAMP:20260424T212545Z
CATEGORIES:Cvičenie
DESCRIPTION:Cvičenie\n\nVyučujúci:\n - T. Kozánek Kiss\n
DTSTART;TZID=Europe/Bratislava:20260218T081000
DTEND;TZID=Europe/Bratislava:20260218T094000
LOCATION:F2
RRULE:FREQ=WEEKLY;UNTIL=20260523T000000Z
SUMMARY:Základy fyziky (2)
END:VEVENT
BEGIN:VEVENT
UID:lesson(80)-semester(022026-052026)-candle@candle.fmph.uniba.sk
DTSTAMP:20260424T212545Z
CATEGORIES:Výber/Vol
DESCRIPTION:Výber/Vol\n\nVyučujúci:\n - K. Miková\n - T. Kozánek Kiss\n - M
 . Dillingerová\n
DTSTART;TZID=Europe/Bratislava:20260219T181000
DTEND;TZID=Europe/Bratislava:20260219T194000
LOCATION:I-oDI
RRULE:FREQ=WEEKLY;UNTIL=20260523T000000Z
SUMMARY:Konzultácie metodológie k záverečnej práci
END:VEVENT
END:VCALENDAR
