BEGIN:VCALENDAR
VERSION:2.0
PRODID:-//candle.fmph.uniba.sk//NONSGML kigkonsult.se iCalcreator 2.16.12//
METHOD:PUBLISH
X-WR-CALNAME:T. Macko
X-WR-CALDESC:Rozvrh hodín vyexportovaný pomocou Candle\, https://github.com
 /fmfi-svt/candle
X-WR-TIMEZONE:Europe/Bratislava
BEGIN:VEVENT
UID:lesson(410)-semester(022026-052026)-candle@candle.fmph.uniba.sk
DTSTAMP:20260425T135019Z
CATEGORIES:Prednáška
DESCRIPTION:Prednáška\n\nVyučujúci:\n - T. Macko\n
DTSTART;TZID=Europe/Bratislava:20260216T113000
DTEND;TZID=Europe/Bratislava:20260216T130000
LOCATION:M-VIII
RRULE:FREQ=WEEKLY;UNTIL=20260523T000000Z
SUMMARY:Lineárna algebra a geometria (2)
END:VEVENT
BEGIN:VEVENT
UID:lesson(409)-semester(022026-052026)-candle@candle.fmph.uniba.sk
DTSTAMP:20260425T135019Z
CATEGORIES:Prednáška
DESCRIPTION:Prednáška\n\nVyučujúci:\n - T. Macko\n
DTSTART;TZID=Europe/Bratislava:20260217T095000
DTEND;TZID=Europe/Bratislava:20260217T112000
LOCATION:F1-109
RRULE:FREQ=WEEKLY;UNTIL=20260523T000000Z
SUMMARY:Lineárna algebra a geometria (2)
END:VEVENT
BEGIN:VEVENT
UID:lesson(1183)-semester(022026-052026)-candle@candle.fmph.uniba.sk
DTSTAMP:20260425T135019Z
CATEGORIES:Prednáška
DESCRIPTION:Prednáška\n\nVyučujúci:\n - T. Macko\n
DTSTART;TZID=Europe/Bratislava:20260218T113000
DTEND;TZID=Europe/Bratislava:20260218T130000
LOCATION:M-126
RRULE:FREQ=WEEKLY;UNTIL=20260523T000000Z
SUMMARY:Algebraická topológia (2)
END:VEVENT
BEGIN:VEVENT
UID:lesson(801)-semester(022026-052026)-candle@candle.fmph.uniba.sk
DTSTAMP:20260425T135019Z
CATEGORIES:Prednáška
DESCRIPTION:Prednáška\n\nVyučujúci:\n - T. Macko\n
DTSTART;TZID=Europe/Bratislava:20260218T113000
DTEND;TZID=Europe/Bratislava:20260218T130000
LOCATION:M-126
RRULE:FREQ=WEEKLY;UNTIL=20260523T000000Z
SUMMARY:Algebraická topológia
END:VEVENT
BEGIN:VEVENT
UID:lesson(866)-semester(022026-052026)-candle@candle.fmph.uniba.sk
DTSTAMP:20260425T135019Z
CATEGORIES:Cvičenie
DESCRIPTION:Cvičenie\n\nVyučujúci:\n - T. Macko\n
DTSTART;TZID=Europe/Bratislava:20260218T154000
DTEND;TZID=Europe/Bratislava:20260218T171000
LOCATION:M-IX
RRULE:FREQ=WEEKLY;UNTIL=20260523T000000Z
SUMMARY:Lineárna algebra a geometria (2)
END:VEVENT
BEGIN:VEVENT
UID:lesson(802)-semester(022026-052026)-candle@candle.fmph.uniba.sk
DTSTAMP:20260425T135019Z
CATEGORIES:Prednáška
DESCRIPTION:Prednáška\n\nVyučujúci:\n - T. Macko\n
DTSTART;TZID=Europe/Bratislava:20260219T113000
DTEND;TZID=Europe/Bratislava:20260219T130000
LOCATION:M-116
RRULE:FREQ=WEEKLY;UNTIL=20260523T000000Z
SUMMARY:Algebraická topológia
END:VEVENT
BEGIN:VEVENT
UID:lesson(1184)-semester(022026-052026)-candle@candle.fmph.uniba.sk
DTSTAMP:20260425T135019Z
CATEGORIES:Prednáška
DESCRIPTION:Prednáška\n\nVyučujúci:\n - T. Macko\n
DTSTART;TZID=Europe/Bratislava:20260219T113000
DTEND;TZID=Europe/Bratislava:20260219T130000
LOCATION:M-116
RRULE:FREQ=WEEKLY;UNTIL=20260523T000000Z
SUMMARY:Algebraická topológia (2)
END:VEVENT
BEGIN:VEVENT
UID:lesson(458)-semester(022026-052026)-candle@candle.fmph.uniba.sk
DTSTAMP:20260425T135019Z
CATEGORIES:Prednáška
DESCRIPTION:Prednáška\n\nVyučujúci:\n - T. Macko\n
DTSTART;TZID=Europe/Bratislava:20260220T131000
DTEND;TZID=Europe/Bratislava:20260220T144000
LOCATION:M-VI
RRULE:FREQ=WEEKLY;UNTIL=20260523T000000Z
SUMMARY:Diferenciálna topológia
END:VEVENT
BEGIN:VEVENT
UID:lesson(457)-semester(022026-052026)-candle@candle.fmph.uniba.sk
DTSTAMP:20260425T135019Z
CATEGORIES:Seminár
DESCRIPTION:Seminár\n\nVyučujúci:\n - T. Macko\n
DTSTART;TZID=Europe/Bratislava:20260220T131000
DTEND;TZID=Europe/Bratislava:20260220T144000
LOCATION:M-VI
RRULE:FREQ=WEEKLY;UNTIL=20260523T000000Z
SUMMARY:Seminár z algebraickej a diferenciálnej topológie (2)
END:VEVENT
BEGIN:VEVENT
UID:lesson(534)-semester(022026-052026)-candle@candle.fmph.uniba.sk
DTSTAMP:20260425T135019Z
CATEGORIES:Prednáška
DESCRIPTION:Prednáška\n\nVyučujúci:\n - T. Macko\n - M. Niepel\n
DTSTART;TZID=Europe/Bratislava:20260220T145000
DTEND;TZID=Europe/Bratislava:20260220T162000
LOCATION:M-oATC
RRULE:FREQ=WEEKLY;UNTIL=20260523T000000Z
SUMMARY:Lieovské grupy a algebry
END:VEVENT
BEGIN:VEVENT
UID:lesson(2059)-semester(022026-052026)-candle@candle.fmph.uniba.sk
DTSTAMP:20260425T135019Z
CATEGORIES:Prednáška
DESCRIPTION:Prednáška\n\nVyučujúci:\n - T. Macko\n
DTSTART;TZID=Europe/Bratislava:20260220T163000
DTEND;TZID=Europe/Bratislava:20260220T180000
LOCATION:M-oATC
RRULE:FREQ=WEEKLY;UNTIL=20260523T000000Z
SUMMARY:Teória kategórií (2)
END:VEVENT
END:VCALENDAR
