BEGIN:VCALENDAR
VERSION:2.0
PRODID:-//candle.fmph.uniba.sk//NONSGML kigkonsult.se iCalcreator 2.16.12//
METHOD:PUBLISH
X-WR-CALNAME:Š. Glevitzká
X-WR-CALDESC:Rozvrh hodín vyexportovaný pomocou Candle\, https://github.com
 /fmfi-svt/candle
X-WR-TIMEZONE:Europe/Bratislava
BEGIN:VEVENT
UID:lesson(891)-semester(022026-052026)-candle@candle.fmph.uniba.sk
DTSTAMP:20260424T193145Z
CATEGORIES:Cvičenie
DESCRIPTION:Cvičenie\n\nVyučujúci:\n - Š. Glevitzká\n
DTSTART;TZID=Europe/Bratislava:20260216T113000
DTEND;TZID=Europe/Bratislava:20260216T130000
LOCATION:M-I
RRULE:FREQ=WEEKLY;UNTIL=20260523T000000Z
SUMMARY:Lineárna algebra
END:VEVENT
BEGIN:VEVENT
UID:lesson(892)-semester(022026-052026)-candle@candle.fmph.uniba.sk
DTSTAMP:20260424T193145Z
CATEGORIES:Cvičenie
DESCRIPTION:Cvičenie\n\nVyučujúci:\n - Š. Glevitzká\n
DTSTART;TZID=Europe/Bratislava:20260217T145000
DTEND;TZID=Europe/Bratislava:20260217T162000
LOCATION:M-XII
RRULE:FREQ=WEEKLY;UNTIL=20260523T000000Z
SUMMARY:Lineárna algebra
END:VEVENT
END:VCALENDAR
