BEGIN:VCALENDAR
VERSION:2.0
PRODID:-//candle.fmph.uniba.sk//NONSGML kigkonsult.se iCalcreator 2.16.12//
METHOD:PUBLISH
X-WR-CALNAME:Š. Šutý
X-WR-CALDESC:Rozvrh hodín vyexportovaný pomocou Candle\, https://github.com
 /fmfi-svt/candle
X-WR-TIMEZONE:Europe/Bratislava
BEGIN:VEVENT
UID:lesson(2060)-semester(022026-052026)-candle@candle.fmph.uniba.sk
DTSTAMP:20260425T010333Z
CATEGORIES:Cvičenie
DESCRIPTION:Cvičenie\n\nVyučujúci:\n - I. Waczulíková\n - Š. Šutý\n
DTSTART;TZID=Europe/Bratislava:20260216T131000
DTEND;TZID=Europe/Bratislava:20260216T152500
LOCATION:F1-308
RRULE:FREQ=WEEKLY;UNTIL=20260523T000000Z
SUMMARY:Úvod do bioštatistiky
END:VEVENT
BEGIN:VEVENT
UID:lesson(516)-semester(022026-052026)-candle@candle.fmph.uniba.sk
DTSTAMP:20260425T010333Z
CATEGORIES:Prednáška
DESCRIPTION:Prednáška\n\nVyučujúci:\n - I. Waczulíková\n - M. Kopáni\n - P.
  Vitovič\n - Š. Šutý\n
DTSTART;TZID=Europe/Bratislava:20260220T081000
DTEND;TZID=Europe/Bratislava:20260220T094000
LOCATION:F1-326
RRULE:FREQ=WEEKLY;UNTIL=20260523T000000Z
SUMMARY:Medicínske prístroje
END:VEVENT
BEGIN:VEVENT
UID:lesson(510)-semester(022026-052026)-candle@candle.fmph.uniba.sk
DTSTAMP:20260425T010333Z
CATEGORIES:Cvičenie
DESCRIPTION:Cvičenie\n\nVyučujúci:\n - I. Waczulíková\n - Š. Šutý\n
DTSTART;TZID=Europe/Bratislava:20260220T104000
DTEND;TZID=Europe/Bratislava:20260220T121000
LOCATION:F1-308
RRULE:FREQ=WEEKLY;UNTIL=20260523T000000Z
SUMMARY:Úvod do bioštatistiky
END:VEVENT
END:VCALENDAR
