BEGIN:VCALENDAR
VERSION:2.0
PRODID:-//candle.fmph.uniba.sk//NONSGML kigkonsult.se iCalcreator 2.16.12//
METHOD:PUBLISH
X-WR-CALNAME:S. Tomašková
X-WR-CALDESC:Rozvrh hodín vyexportovaný pomocou Candle\, https://github.com
 /fmfi-svt/candle
X-WR-TIMEZONE:Europe/Bratislava
BEGIN:VEVENT
UID:lesson(558)-semester(022026-052026)-candle@candle.fmph.uniba.sk
DTSTAMP:20260425T135017Z
CATEGORIES:Kurz
DESCRIPTION:Kurz\n\nVyučujúci:\n - S. Tomašková\n
DTSTART;TZID=Europe/Bratislava:20260216T095000
DTEND;TZID=Europe/Bratislava:20260216T120500
LOCATION:I-9
RRULE:FREQ=WEEKLY;UNTIL=20260523T000000Z
SUMMARY:Introduction to Philosophy of Mind
END:VEVENT
END:VCALENDAR
