BEGIN:VCALENDAR
VERSION:2.0
PRODID:-//candle.fmph.uniba.sk//NONSGML kigkonsult.se iCalcreator 2.16.12//
METHOD:PUBLISH
X-WR-CALNAME:S. Brezina
X-WR-CALDESC:Rozvrh hodín vyexportovaný pomocou Candle\, https://github.com
 /fmfi-svt/candle
X-WR-TIMEZONE:Europe/Bratislava
BEGIN:VEVENT
UID:lesson(619)-semester(022026-052026)-candle@candle.fmph.uniba.sk
DTSTAMP:20260424T193137Z
CATEGORIES:Cvičenie
DESCRIPTION:Cvičenie\n\nVyučujúci:\n - S. Brezina\n
DTSTART;TZID=Europe/Bratislava:20260217T122000
DTEND;TZID=Europe/Bratislava:20260217T135000
LOCATION:M-VIII
RRULE:FREQ=WEEKLY;UNTIL=20260523T000000Z
SUMMARY:Teória elektromagnetického poľa
END:VEVENT
END:VCALENDAR
