BEGIN:VCALENDAR
VERSION:2.0
PRODID:-//candle.fmph.uniba.sk//NONSGML kigkonsult.se iCalcreator 2.16.12//
METHOD:PUBLISH
X-WR-CALNAME:R. Martoňák
X-WR-CALDESC:Rozvrh hodín vyexportovaný pomocou Candle\, https://github.com
 /fmfi-svt/candle
X-WR-TIMEZONE:Europe/Bratislava
BEGIN:VEVENT
UID:lesson(910)-semester(022026-052026)-candle@candle.fmph.uniba.sk
DTSTAMP:20260425T135026Z
CATEGORIES:Prednáška
DESCRIPTION:Prednáška\n\nVyučujúci:\n - R. Martoňák\n
DTSTART;TZID=Europe/Bratislava:20260218T140000
DTEND;TZID=Europe/Bratislava:20260218T153000
LOCATION:F2-272
RRULE:FREQ=WEEKLY;UNTIL=20260523T000000Z
SUMMARY:Ab initio modelovanie materiálov
END:VEVENT
BEGIN:VEVENT
UID:lesson(911)-semester(022026-052026)-candle@candle.fmph.uniba.sk
DTSTAMP:20260425T135026Z
CATEGORIES:Prednáška
DESCRIPTION:Prednáška\n\nVyučujúci:\n - R. Martoňák\n
DTSTART;TZID=Europe/Bratislava:20260218T140000
DTEND;TZID=Europe/Bratislava:20260218T153000
LOCATION:F2-272
RRULE:FREQ=WEEKLY;UNTIL=20260523T000000Z
SUMMARY:Ab initio modelovanie materiálov
END:VEVENT
BEGIN:VEVENT
UID:lesson(912)-semester(022026-052026)-candle@candle.fmph.uniba.sk
DTSTAMP:20260425T135026Z
CATEGORIES:Seminár
DESCRIPTION:Seminár\n\nVyučujúci:\n - R. Martoňák\n - T. Plecenik\n
DTSTART;TZID=Europe/Bratislava:20260219T140000
DTEND;TZID=Europe/Bratislava:20260219T153000
LOCATION:F1-108
RRULE:FREQ=WEEKLY;UNTIL=20260523T000000Z
SUMMARY:Seminár z fyziky kondenzovaných látok
END:VEVENT
END:VCALENDAR
