BEGIN:VCALENDAR
VERSION:2.0
PRODID:-//candle.fmph.uniba.sk//NONSGML kigkonsult.se iCalcreator 2.16.12//
METHOD:PUBLISH
X-WR-CALNAME:R. Bohdal
X-WR-CALDESC:Rozvrh hodín vyexportovaný pomocou Candle\, https://github.com
 /fmfi-svt/candle
X-WR-TIMEZONE:Europe/Bratislava
BEGIN:VEVENT
UID:lesson(609)-semester(022026-052026)-candle@candle.fmph.uniba.sk
DTSTAMP:20260425T135020Z
CATEGORIES:Kurz
DESCRIPTION:Kurz\n\nVyučujúci:\n - R. Bohdal\n
DTSTART;TZID=Europe/Bratislava:20260217T145000
DTEND;TZID=Europe/Bratislava:20260217T162000
LOCATION:M-217
RRULE:FREQ=WEEKLY;UNTIL=20260523T000000Z
SUMMARY:CAD systémy
END:VEVENT
BEGIN:VEVENT
UID:lesson(610)-semester(022026-052026)-candle@candle.fmph.uniba.sk
DTSTAMP:20260425T135020Z
CATEGORIES:Kurz
DESCRIPTION:Kurz\n\nVyučujúci:\n - R. Bohdal\n
DTSTART;TZID=Europe/Bratislava:20260217T145000
DTEND;TZID=Europe/Bratislava:20260217T162000
LOCATION:M-217
RRULE:FREQ=WEEKLY;UNTIL=20260523T000000Z
SUMMARY:Technické kreslenie s podporou CAD systémov
END:VEVENT
BEGIN:VEVENT
UID:lesson(611)-semester(022026-052026)-candle@candle.fmph.uniba.sk
DTSTAMP:20260425T135020Z
CATEGORIES:Cvičenie
DESCRIPTION:Cvičenie\n\nVyučujúci:\n - R. Bohdal\n
DTSTART;TZID=Europe/Bratislava:20260218T081000
DTEND;TZID=Europe/Bratislava:20260218T094000
LOCATION:M-217
RRULE:FREQ=WEEKLY;UNTIL=20260523T000000Z
SUMMARY:Počítačová grafika (2)
END:VEVENT
BEGIN:VEVENT
UID:lesson(973)-semester(022026-052026)-candle@candle.fmph.uniba.sk
DTSTAMP:20260425T135020Z
CATEGORIES:Cvičenie
DESCRIPTION:Cvičenie\n\nVyučujúci:\n - R. Bohdal\n
DTSTART;TZID=Europe/Bratislava:20260218T081000
DTEND;TZID=Europe/Bratislava:20260218T094000
LOCATION:M-116
RRULE:FREQ=WEEKLY;UNTIL=20260523T000000Z
SUMMARY:Počítačová grafika (2)
END:VEVENT
BEGIN:VEVENT
UID:lesson(991)-semester(022026-052026)-candle@candle.fmph.uniba.sk
DTSTAMP:20260425T135020Z
CATEGORIES:Cvičenie
DESCRIPTION:Cvičenie\n\nVyučujúci:\n - R. Bohdal\n
DTSTART;TZID=Europe/Bratislava:20260218T113000
DTEND;TZID=Europe/Bratislava:20260218T130000
LOCATION:M-120
RRULE:FREQ=WEEKLY;UNTIL=20260523T000000Z
SUMMARY:Technické kreslenie s podporou CAD systémov
END:VEVENT
BEGIN:VEVENT
UID:lesson(993)-semester(022026-052026)-candle@candle.fmph.uniba.sk
DTSTAMP:20260425T135020Z
CATEGORIES:Prednáška
DESCRIPTION:Prednáška\n\nVyučujúci:\n - R. Bohdal\n
DTSTART;TZID=Europe/Bratislava:20260219T095000
DTEND;TZID=Europe/Bratislava:20260219T112000
LOCATION:M-116
RRULE:FREQ=WEEKLY;UNTIL=20260523T000000Z
SUMMARY:Počítačová grafika (2)
END:VEVENT
END:VCALENDAR
