BEGIN:VCALENDAR
VERSION:2.0
PRODID:-//candle.fmph.uniba.sk//NONSGML kigkonsult.se iCalcreator 2.16.12//
METHOD:PUBLISH
X-WR-CALNAME:P. Mederly
X-WR-CALDESC:Rozvrh hodín vyexportovaný pomocou Candle\, https://github.com
 /fmfi-svt/candle
X-WR-TIMEZONE:Europe/Bratislava
BEGIN:VEVENT
UID:lesson(450)-semester(022026-052026)-candle@candle.fmph.uniba.sk
DTSTAMP:20260424T231923Z
CATEGORIES:Prednáška
DESCRIPTION:Prednáška\n\nVyučujúci:\n - P. Mederly\n
DTSTART;TZID=Europe/Bratislava:20260218T131000
DTEND;TZID=Europe/Bratislava:20260218T144000
LOCATION:M-II
RRULE:FREQ=WEEKLY;UNTIL=20260523T000000Z
SUMMARY:Princípy účtovníctva
END:VEVENT
END:VCALENDAR
