BEGIN:VCALENDAR
VERSION:2.0
PRODID:-//candle.fmph.uniba.sk//NONSGML kigkonsult.se iCalcreator 2.16.12//
METHOD:PUBLISH
X-WR-CALNAME:P. Demkanin
X-WR-CALDESC:Rozvrh hodín vyexportovaný pomocou Candle\, https://github.com
 /fmfi-svt/candle
X-WR-TIMEZONE:Europe/Bratislava
BEGIN:VEVENT
UID:lesson(705)-semester(022026-052026)-candle@candle.fmph.uniba.sk
DTSTAMP:20260424T212240Z
CATEGORIES:Kurz
DESCRIPTION:Kurz\n\nVyučujúci:\n - P. Demkanin\n
DTSTART;TZID=Europe/Bratislava:20260217T104000
DTEND;TZID=Europe/Bratislava:20260217T125500
LOCATION:F1-149
RRULE:FREQ=WEEKLY;UNTIL=20260523T000000Z
SUMMARY:Pokročilá teória obsahu a metód fyziky strednej školy
END:VEVENT
BEGIN:VEVENT
UID:lesson(382)-semester(022026-052026)-candle@candle.fmph.uniba.sk
DTSTAMP:20260424T212240Z
CATEGORIES:Seminár
DESCRIPTION:Seminár\n\nVyučujúci:\n - P. Demkanin\n
DTSTART;TZID=Europe/Bratislava:20260218T113000
DTEND;TZID=Europe/Bratislava:20260218T143000
LOCATION:F1-149
RRULE:FREQ=WEEKLY;UNTIL=20260523T000000Z
SUMMARY:Seminár k diplomovej práci (2)
END:VEVENT
BEGIN:VEVENT
UID:lesson(407)-semester(022026-052026)-candle@candle.fmph.uniba.sk
DTSTAMP:20260424T212240Z
CATEGORIES:Seminár
DESCRIPTION:Seminár\n\nPoznámka: po dohode s vyučujúcim\n\nVyučujúci:\n - P
 . Demkanin\n
DTSTART;TZID=Europe/Bratislava:20260218T181000
DTEND;TZID=Europe/Bratislava:20260218T194000
LOCATION:F2-126
RRULE:FREQ=WEEKLY;UNTIL=20260523T000000Z
SUMMARY:Vybrané kapitoly súčasných vied o učení sa
END:VEVENT
END:VCALENDAR
