BEGIN:VCALENDAR
VERSION:2.0
PRODID:-//candle.fmph.uniba.sk//NONSGML kigkonsult.se iCalcreator 2.16.12//
METHOD:PUBLISH
X-WR-CALNAME:P. Quittner
X-WR-CALDESC:Rozvrh hodín vyexportovaný pomocou Candle\, https://github.com
 /fmfi-svt/candle
X-WR-TIMEZONE:Europe/Bratislava
BEGIN:VEVENT
UID:lesson(773)-semester(022026-052026)-candle@candle.fmph.uniba.sk
DTSTAMP:20260424T212241Z
CATEGORIES:Prednáška
DESCRIPTION:Prednáška\n\nVyučujúci:\n - P. Quittner\n
DTSTART;TZID=Europe/Bratislava:20260217T081000
DTEND;TZID=Europe/Bratislava:20260217T094000
LOCATION:M-201
RRULE:FREQ=WEEKLY;UNTIL=20260523T000000Z
SUMMARY:Variačný počet
END:VEVENT
BEGIN:VEVENT
UID:lesson(774)-semester(022026-052026)-candle@candle.fmph.uniba.sk
DTSTAMP:20260424T212241Z
CATEGORIES:Cvičenie
DESCRIPTION:Cvičenie\n\nVyučujúci:\n - P. Quittner\n
DTSTART;TZID=Europe/Bratislava:20260217T095000
DTEND;TZID=Europe/Bratislava:20260217T112000
LOCATION:M-201
RRULE:FREQ=WEEKLY;UNTIL=20260523T000000Z
SUMMARY:Variačný počet
END:VEVENT
BEGIN:VEVENT
UID:lesson(10)-semester(022026-052026)-candle@candle.fmph.uniba.sk
DTSTAMP:20260424T212241Z
CATEGORIES:Seminár
DESCRIPTION:Seminár\n\nVyučujúci:\n - P. Quittner\n
DTSTART;TZID=Europe/Bratislava:20260219T140000
DTEND;TZID=Europe/Bratislava:20260219T161500
LOCATION:M-223
RRULE:FREQ=WEEKLY;UNTIL=20260523T000000Z
SUMMARY:Seminár o diferenciálnych rovniciach a dynamických systémoch
END:VEVENT
END:VCALENDAR
