BEGIN:VCALENDAR
VERSION:2.0
PRODID:-//candle.fmph.uniba.sk//NONSGML kigkonsult.se iCalcreator 2.16.12//
METHOD:PUBLISH
X-WR-CALNAME:P. Chalmovianský
X-WR-CALDESC:Rozvrh hodín vyexportovaný pomocou Candle\, https://github.com
 /fmfi-svt/candle
X-WR-TIMEZONE:Europe/Bratislava
BEGIN:VEVENT
UID:lesson(989)-semester(022026-052026)-candle@candle.fmph.uniba.sk
DTSTAMP:20260425T202928Z
CATEGORIES:Prednáška
DESCRIPTION:Prednáška\n\nVyučujúci:\n - P. Chalmovianský\n
DTSTART;TZID=Europe/Bratislava:20260217T104000
DTEND;TZID=Europe/Bratislava:20260217T121000
LOCATION:M-120
RRULE:FREQ=WEEKLY;UNTIL=20260523T000000Z
SUMMARY:Modelovanie kriviek a plôch (2)
END:VEVENT
BEGIN:VEVENT
UID:lesson(62)-semester(022026-052026)-candle@candle.fmph.uniba.sk
DTSTAMP:20260425T202928Z
CATEGORIES:Prednáška
DESCRIPTION:Prednáška\n\nVyučujúci:\n - P. Chalmovianský\n
DTSTART;TZID=Europe/Bratislava:20260217T140000
DTEND;TZID=Europe/Bratislava:20260217T161500
LOCATION:M-VIII
RRULE:FREQ=WEEKLY;UNTIL=20260523T000000Z
SUMMARY:Vybrané partie z geometrie (2)
END:VEVENT
BEGIN:VEVENT
UID:lesson(46)-semester(022026-052026)-candle@candle.fmph.uniba.sk
DTSTAMP:20260425T202928Z
CATEGORIES:Prednáška
DESCRIPTION:Prednáška\n\nVyučujúci:\n - P. Chalmovianský\n
DTSTART;TZID=Europe/Bratislava:20260219T081000
DTEND;TZID=Europe/Bratislava:20260219T094000
LOCATION:F2
RRULE:FREQ=WEEKLY;UNTIL=20260523T000000Z
SUMMARY:Lineárna algebra a geometria (2)
END:VEVENT
BEGIN:VEVENT
UID:lesson(47)-semester(022026-052026)-candle@candle.fmph.uniba.sk
DTSTAMP:20260425T202928Z
CATEGORIES:Prednáška
DESCRIPTION:Prednáška\n\nVyučujúci:\n - P. Chalmovianský\n
DTSTART;TZID=Europe/Bratislava:20260219T081000
DTEND;TZID=Europe/Bratislava:20260219T094000
LOCATION:F2
RRULE:FREQ=WEEKLY;UNTIL=20260523T000000Z
SUMMARY:Algebra a teoretická aritmetika (3)
END:VEVENT
BEGIN:VEVENT
UID:lesson(529)-semester(022026-052026)-candle@candle.fmph.uniba.sk
DTSTAMP:20260425T202928Z
CATEGORIES:Prednáška
DESCRIPTION:Prednáška\n\nVyučujúci:\n - P. Chalmovianský\n
DTSTART;TZID=Europe/Bratislava:20260219T140000
DTEND;TZID=Europe/Bratislava:20260219T161500
LOCATION:M-120
RRULE:FREQ=WEEKLY;UNTIL=20260523T000000Z
SUMMARY:Diferenciálna geometria a jej aplikácie
END:VEVENT
BEGIN:VEVENT
UID:lesson(995)-semester(022026-052026)-candle@candle.fmph.uniba.sk
DTSTAMP:20260425T202928Z
CATEGORIES:Seminár
DESCRIPTION:Seminár\n\nVyučujúci:\n - P. Chalmovianský\n
DTSTART;TZID=Europe/Bratislava:20260220T095000
DTEND;TZID=Europe/Bratislava:20260220T112000
LOCATION:M-116
RRULE:FREQ=WEEKLY;UNTIL=20260523T000000Z
SUMMARY:Seminár z algebraickej geometrie (2)
END:VEVENT
END:VCALENDAR
