BEGIN:VCALENDAR
VERSION:2.0
PRODID:-//candle.fmph.uniba.sk//NONSGML kigkonsult.se iCalcreator 2.16.12//
METHOD:PUBLISH
X-WR-CALNAME:P. Somogyi
X-WR-CALDESC:Rozvrh hodín vyexportovaný pomocou Candle\, https://github.com
 /fmfi-svt/candle
X-WR-TIMEZONE:Europe/Bratislava
BEGIN:VEVENT
UID:lesson(519)-semester(022026-052026)-candle@candle.fmph.uniba.sk
DTSTAMP:20260424T193123Z
CATEGORIES:Cvičenie
DESCRIPTION:Cvičenie\n\nVyučujúci:\n - P. Somogyi\n
DTSTART;TZID=Europe/Bratislava:20260217T145000
DTEND;TZID=Europe/Bratislava:20260217T153500
LOCATION:M-VII
RRULE:FREQ=WEEKLY;UNTIL=20260523T000000Z
SUMMARY:Pravdepodobnosť a štatistika (2)
END:VEVENT
BEGIN:VEVENT
UID:lesson(520)-semester(022026-052026)-candle@candle.fmph.uniba.sk
DTSTAMP:20260424T193123Z
CATEGORIES:Cvičenie
DESCRIPTION:Cvičenie\n\nVyučujúci:\n - P. Somogyi\n
DTSTART;TZID=Europe/Bratislava:20260217T154000
DTEND;TZID=Europe/Bratislava:20260217T162500
LOCATION:M-VII
RRULE:FREQ=WEEKLY;UNTIL=20260523T000000Z
SUMMARY:Cvičenie z pravdepodobnosti a štatistiky (2)
END:VEVENT
BEGIN:VEVENT
UID:lesson(527)-semester(022026-052026)-candle@candle.fmph.uniba.sk
DTSTAMP:20260424T193123Z
CATEGORIES:Cvičenie
DESCRIPTION:Cvičenie\n\nVyučujúci:\n - P. Somogyi\n
DTSTART;TZID=Europe/Bratislava:20260219T095000
DTEND;TZID=Europe/Bratislava:20260219T112000
LOCATION:M-II
RRULE:FREQ=WEEKLY;UNTIL=20260523T000000Z
SUMMARY:Ekonometria
END:VEVENT
BEGIN:VEVENT
UID:lesson(528)-semester(022026-052026)-candle@candle.fmph.uniba.sk
DTSTAMP:20260424T193123Z
CATEGORIES:Cvičenie
DESCRIPTION:Cvičenie\n\nVyučujúci:\n - P. Somogyi\n
DTSTART;TZID=Europe/Bratislava:20260219T140000
DTEND;TZID=Europe/Bratislava:20260219T153000
LOCATION:M-VIII
RRULE:FREQ=WEEKLY;UNTIL=20260523T000000Z
SUMMARY:Ekonometria
END:VEVENT
END:VCALENDAR
