BEGIN:VCALENDAR
VERSION:2.0
PRODID:-//candle.fmph.uniba.sk//NONSGML kigkonsult.se iCalcreator 2.16.12//
METHOD:PUBLISH
X-WR-CALNAME:M. Tomcsányiová
X-WR-CALDESC:Rozvrh hodín vyexportovaný pomocou Candle\, https://github.com
 /fmfi-svt/candle
X-WR-TIMEZONE:Europe/Bratislava
BEGIN:VEVENT
UID:lesson(35)-semester(022026-052026)-candle@candle.fmph.uniba.sk
DTSTAMP:20260424T212401Z
CATEGORIES:Prednáška
DESCRIPTION:Prednáška\n\nVyučujúci:\n - D. Bezáková\n - M. Tomcsányiová\n
DTSTART;TZID=Europe/Bratislava:20260216T081000
DTEND;TZID=Europe/Bratislava:20260216T094000
LOCATION:I-H6
RRULE:FREQ=WEEKLY;UNTIL=20260523T000000Z
SUMMARY:Úvod do riešenia informatických úloh
END:VEVENT
BEGIN:VEVENT
UID:lesson(54)-semester(022026-052026)-candle@candle.fmph.uniba.sk
DTSTAMP:20260424T212401Z
CATEGORIES:Prednáška
DESCRIPTION:Prednáška\n\nVyučujúci:\n - M. Tomcsányiová\n
DTSTART;TZID=Europe/Bratislava:20260217T081000
DTEND;TZID=Europe/Bratislava:20260217T094000
LOCATION:F1-248
RRULE:FREQ=WEEKLY;UNTIL=20260523T000000Z
SUMMARY:Softvér vo vzdelávaní
END:VEVENT
BEGIN:VEVENT
UID:lesson(55)-semester(022026-052026)-candle@candle.fmph.uniba.sk
DTSTAMP:20260424T212401Z
CATEGORIES:Prednáška
DESCRIPTION:Prednáška\n\nVyučujúci:\n - M. Tomcsányiová\n
DTSTART;TZID=Europe/Bratislava:20260217T095000
DTEND;TZID=Europe/Bratislava:20260217T112000
LOCATION:F1-248
RRULE:FREQ=WEEKLY;UNTIL=20260523T000000Z
SUMMARY:Programovanie v JavaScripte
END:VEVENT
BEGIN:VEVENT
UID:lesson(44)-semester(022026-052026)-candle@candle.fmph.uniba.sk
DTSTAMP:20260424T212401Z
CATEGORIES:Výber/Vol
DESCRIPTION:Výber/Vol\n\nVyučujúci:\n - M. Tomcsányiová\n
DTSTART;TZID=Europe/Bratislava:20260218T181000
DTEND;TZID=Europe/Bratislava:20260218T194000
LOCATION:I-H4
RRULE:FREQ=WEEKLY;UNTIL=20260523T000000Z
SUMMARY:Príprava úloh pre informatické súťaže
END:VEVENT
BEGIN:VEVENT
UID:lesson(60)-semester(022026-052026)-candle@candle.fmph.uniba.sk
DTSTAMP:20260424T212401Z
CATEGORIES:Seminár
DESCRIPTION:Seminár\n\nVyučujúci:\n - M. Tomcsányiová\n
DTSTART;TZID=Europe/Bratislava:20260219T145000
DTEND;TZID=Europe/Bratislava:20260219T162000
LOCATION:I-32
RRULE:FREQ=WEEKLY;UNTIL=20260523T000000Z
SUMMARY:Seminár k bakalárskej práci (2)
END:VEVENT
BEGIN:VEVENT
UID:lesson(872)-semester(022026-052026)-candle@candle.fmph.uniba.sk
DTSTAMP:20260424T212401Z
CATEGORIES:Seminár
DESCRIPTION:Seminár\n\nVyučujúci:\n - M. Tomcsányiová\n
DTSTART;TZID=Europe/Bratislava:20260219T145000
DTEND;TZID=Europe/Bratislava:20260219T162000
LOCATION:I-32
RRULE:FREQ=WEEKLY;UNTIL=20260523T000000Z
SUMMARY:Projekt záverečnej práce
END:VEVENT
BEGIN:VEVENT
UID:lesson(873)-semester(022026-052026)-candle@candle.fmph.uniba.sk
DTSTAMP:20260424T212401Z
CATEGORIES:Seminár
DESCRIPTION:Seminár\n\nVyučujúci:\n - M. Tomcsányiová\n
DTSTART;TZID=Europe/Bratislava:20260219T145000
DTEND;TZID=Europe/Bratislava:20260219T162000
LOCATION:I-32
RRULE:FREQ=WEEKLY;UNTIL=20260523T000000Z
SUMMARY:Projekt záverečnej práce
END:VEVENT
BEGIN:VEVENT
UID:lesson(41)-semester(022026-052026)-candle@candle.fmph.uniba.sk
DTSTAMP:20260424T212401Z
CATEGORIES:Cvičenie
DESCRIPTION:Cvičenie\n\nVyučujúci:\n - D. Bezáková\n - M. Tomcsányiová\n
DTSTART;TZID=Europe/Bratislava:20260220T081000
DTEND;TZID=Europe/Bratislava:20260220T094000
LOCATION:I-H3
RRULE:FREQ=WEEKLY;UNTIL=20260523T000000Z
SUMMARY:Úvod do riešenia informatických úloh
END:VEVENT
END:VCALENDAR
