BEGIN:VCALENDAR
VERSION:2.0
PRODID:-//candle.fmph.uniba.sk//NONSGML kigkonsult.se iCalcreator 2.16.12//
METHOD:PUBLISH
X-WR-CALNAME:M. Dillingerová
X-WR-CALDESC:Rozvrh hodín vyexportovaný pomocou Candle\, https://github.com
 /fmfi-svt/candle
X-WR-TIMEZONE:Europe/Bratislava
BEGIN:VEVENT
UID:lesson(15)-semester(022026-052026)-candle@candle.fmph.uniba.sk
DTSTAMP:20260424T193221Z
CATEGORIES:Cvičenie
DESCRIPTION:Cvičenie\n\nVyučujúci:\n - M. Dillingerová\n
DTSTART;TZID=Europe/Bratislava:20260216T095000
DTEND;TZID=Europe/Bratislava:20260216T112000
LOCATION:M-X
RRULE:FREQ=WEEKLY;UNTIL=20260523T000000Z
SUMMARY:Matematická analýza (0)
END:VEVENT
BEGIN:VEVENT
UID:lesson(66)-semester(022026-052026)-candle@candle.fmph.uniba.sk
DTSTAMP:20260424T193221Z
CATEGORIES:Seminár
DESCRIPTION:Seminár\n\nVyučujúci:\n - M. Dillingerová\n
DTSTART;TZID=Europe/Bratislava:20260216T140000
DTEND;TZID=Europe/Bratislava:20260216T161500
LOCATION:M-VII
RRULE:FREQ=WEEKLY;UNTIL=20260523T000000Z
SUMMARY:Kapitoly z vyučovania matematiky
END:VEVENT
BEGIN:VEVENT
UID:lesson(70)-semester(022026-052026)-candle@candle.fmph.uniba.sk
DTSTAMP:20260424T193221Z
CATEGORIES:Výber/Vol
DESCRIPTION:Výber/Vol\n\nVyučujúci:\n - M. Dillingerová\n
DTSTART;TZID=Europe/Bratislava:20260217T095000
DTEND;TZID=Europe/Bratislava:20260217T112000
LOCATION:M-VII
RRULE:FREQ=WEEKLY;UNTIL=20260523T000000Z
SUMMARY:Netradičné formy vyučovania
END:VEVENT
BEGIN:VEVENT
UID:lesson(1167)-semester(022026-052026)-candle@candle.fmph.uniba.sk
DTSTAMP:20260424T193221Z
CATEGORIES:Výber/Vol
DESCRIPTION:Výber/Vol\n\nVyučujúci:\n - M. Dillingerová\n
DTSTART;TZID=Europe/Bratislava:20260217T181000
DTEND;TZID=Europe/Bratislava:20260217T194000
LOCATION:M-112
RRULE:FREQ=WEEKLY;UNTIL=20260523T000000Z
SUMMARY:Metódy riešenia matematických úloh (2)
END:VEVENT
BEGIN:VEVENT
UID:lesson(50)-semester(022026-052026)-candle@candle.fmph.uniba.sk
DTSTAMP:20260424T193221Z
CATEGORIES:Seminár
DESCRIPTION:Seminár\n\nVyučujúci:\n - M. Dillingerová\n
DTSTART;TZID=Europe/Bratislava:20260219T145000
DTEND;TZID=Europe/Bratislava:20260219T162000
LOCATION:M-112
RRULE:FREQ=WEEKLY;UNTIL=20260523T000000Z
SUMMARY:Seminár k bakalárskej práci (2)
END:VEVENT
BEGIN:VEVENT
UID:lesson(80)-semester(022026-052026)-candle@candle.fmph.uniba.sk
DTSTAMP:20260424T193221Z
CATEGORIES:Výber/Vol
DESCRIPTION:Výber/Vol\n\nVyučujúci:\n - K. Miková\n - T. Kozánek Kiss\n - M
 . Dillingerová\n
DTSTART;TZID=Europe/Bratislava:20260219T181000
DTEND;TZID=Europe/Bratislava:20260219T194000
LOCATION:I-oDI
RRULE:FREQ=WEEKLY;UNTIL=20260523T000000Z
SUMMARY:Konzultácie metodológie k záverečnej práci
END:VEVENT
END:VCALENDAR
