BEGIN:VCALENDAR
VERSION:2.0
PRODID:-//candle.fmph.uniba.sk//NONSGML kigkonsult.se iCalcreator 2.16.12//
METHOD:PUBLISH
X-WR-CALNAME:M. Melicherčík
X-WR-CALDESC:Rozvrh hodín vyexportovaný pomocou Candle\, https://github.com
 /fmfi-svt/candle
X-WR-TIMEZONE:Europe/Bratislava
BEGIN:VEVENT
UID:lesson(115)-semester(022026-052026)-candle@candle.fmph.uniba.sk
DTSTAMP:20260425T171927Z
CATEGORIES:Cvičenie
DESCRIPTION:Cvičenie\n\nVyučujúci:\n - M. Melicherčík\n
DTSTART;TZID=Europe/Bratislava:20260216T095000
DTEND;TZID=Europe/Bratislava:20260216T112000
LOCATION:B1-225
RRULE:FREQ=WEEKLY;UNTIL=20260523T000000Z
SUMMARY:Úvod do bioštatistiky a pravdepodobnosti
END:VEVENT
BEGIN:VEVENT
UID:lesson(116)-semester(022026-052026)-candle@candle.fmph.uniba.sk
DTSTAMP:20260425T171927Z
CATEGORIES:Cvičenie
DESCRIPTION:Cvičenie\n\nVyučujúci:\n - M. Melicherčík\n
DTSTART;TZID=Europe/Bratislava:20260217T113000
DTEND;TZID=Europe/Bratislava:20260217T130000
LOCATION:B1-225
RRULE:FREQ=WEEKLY;UNTIL=20260523T000000Z
SUMMARY:Úvod do bioštatistiky a pravdepodobnosti
END:VEVENT
BEGIN:VEVENT
UID:lesson(1045)-semester(022026-052026)-candle@candle.fmph.uniba.sk
DTSTAMP:20260425T171927Z
CATEGORIES:Prednáška
DESCRIPTION:Prednáška\n\nVyučujúci:\n - I. Sukuba\n - M. Melicherčík\n - P.
  Babinec\n
DTSTART;TZID=Europe/Bratislava:20260218T113000
DTEND;TZID=Europe/Bratislava:20260218T134500
LOCATION:F1-308
RRULE:FREQ=WEEKLY;UNTIL=20260523T000000Z
SUMMARY:Molekulová dynamika biofyzikálnych systémov
END:VEVENT
BEGIN:VEVENT
UID:lesson(117)-semester(022026-052026)-candle@candle.fmph.uniba.sk
DTSTAMP:20260425T171927Z
CATEGORIES:Cvičenie
DESCRIPTION:Cvičenie\n\nVyučujúci:\n - M. Melicherčík\n
DTSTART;TZID=Europe/Bratislava:20260219T081000
DTEND;TZID=Europe/Bratislava:20260219T094000
LOCATION:B1-225
RRULE:FREQ=WEEKLY;UNTIL=20260523T000000Z
SUMMARY:Úvod do bioštatistiky a pravdepodobnosti
END:VEVENT
BEGIN:VEVENT
UID:lesson(118)-semester(022026-052026)-candle@candle.fmph.uniba.sk
DTSTAMP:20260425T171927Z
CATEGORIES:Cvičenie
DESCRIPTION:Cvičenie\n\nVyučujúci:\n - M. Melicherčík\n
DTSTART;TZID=Europe/Bratislava:20260219T095000
DTEND;TZID=Europe/Bratislava:20260219T112000
LOCATION:B1-225
RRULE:FREQ=WEEKLY;UNTIL=20260523T000000Z
SUMMARY:Úvod do bioštatistiky a pravdepodobnosti
END:VEVENT
BEGIN:VEVENT
UID:lesson(658)-semester(022026-052026)-candle@candle.fmph.uniba.sk
DTSTAMP:20260425T171927Z
CATEGORIES:Prednáška
DESCRIPTION:Prednáška\n\nVyučujúci:\n - P. Papp\n - I. Sukuba\n - M. Melich
 erčík\n
DTSTART;TZID=Europe/Bratislava:20260219T131000
DTEND;TZID=Europe/Bratislava:20260219T152500
LOCATION:M-XII
RRULE:FREQ=WEEKLY;UNTIL=20260523T000000Z
SUMMARY:Chemická fyzika
END:VEVENT
BEGIN:VEVENT
UID:lesson(119)-semester(022026-052026)-candle@candle.fmph.uniba.sk
DTSTAMP:20260425T171927Z
CATEGORIES:Cvičenie
DESCRIPTION:Cvičenie\n\nVyučujúci:\n - M. Melicherčík\n
DTSTART;TZID=Europe/Bratislava:20260220T090000
DTEND;TZID=Europe/Bratislava:20260220T103000
LOCATION:B1-225
RRULE:FREQ=WEEKLY;UNTIL=20260523T000000Z
SUMMARY:Úvod do bioštatistiky a pravdepodobnosti
END:VEVENT
END:VCALENDAR
