BEGIN:VCALENDAR
VERSION:2.0
PRODID:-//candle.fmph.uniba.sk//NONSGML kigkonsult.se iCalcreator 2.16.12//
METHOD:PUBLISH
X-WR-CALNAME:M. Maheľ
X-WR-CALDESC:Rozvrh hodín vyexportovaný pomocou Candle\, https://github.com
 /fmfi-svt/candle
X-WR-TIMEZONE:Europe/Bratislava
BEGIN:VEVENT
UID:lesson(913)-semester(022026-052026)-candle@candle.fmph.uniba.sk
DTSTAMP:20260425T221414Z
CATEGORIES:Prednáška
DESCRIPTION:Prednáška\n\nVyučujúci:\n - F. Kundracik\n - M. Maheľ\n
DTSTART;TZID=Europe/Bratislava:20260216T095000
DTEND;TZID=Europe/Bratislava:20260216T112000
LOCATION:F2-272
RRULE:FREQ=WEEKLY;UNTIL=20260523T000000Z
SUMMARY:Elektronické obvody
END:VEVENT
BEGIN:VEVENT
UID:lesson(914)-semester(022026-052026)-candle@candle.fmph.uniba.sk
DTSTAMP:20260425T221414Z
CATEGORIES:Prednáška
DESCRIPTION:Prednáška\n\nVyučujúci:\n - F. Kundracik\n - M. Maheľ\n
DTSTART;TZID=Europe/Bratislava:20260218T095000
DTEND;TZID=Europe/Bratislava:20260218T112000
LOCATION:F2-272
RRULE:FREQ=WEEKLY;UNTIL=20260523T000000Z
SUMMARY:Elektronické obvody
END:VEVENT
BEGIN:VEVENT
UID:lesson(682)-semester(022026-052026)-candle@candle.fmph.uniba.sk
DTSTAMP:20260425T221414Z
CATEGORIES:Prednáška
DESCRIPTION:Prednáška\n\nVyučujúci:\n - M. Maheľ\n
DTSTART;TZID=Europe/Bratislava:20260218T122000
DTEND;TZID=Europe/Bratislava:20260218T135000
LOCATION:F2-272
RRULE:FREQ=WEEKLY;UNTIL=20260523T000000Z
SUMMARY:Elektronika
END:VEVENT
BEGIN:VEVENT
UID:lesson(915)-semester(022026-052026)-candle@candle.fmph.uniba.sk
DTSTAMP:20260425T221414Z
CATEGORIES:Cvičenie
DESCRIPTION:Cvičenie\n\nVyučujúci:\n - F. Kundracik\n - M. Maheľ\n
DTSTART;TZID=Europe/Bratislava:20260219T090000
DTEND;TZID=Europe/Bratislava:20260219T103000
LOCATION:F2-272
RRULE:FREQ=WEEKLY;UNTIL=20260523T000000Z
SUMMARY:Elektronické obvody
END:VEVENT
BEGIN:VEVENT
UID:lesson(683)-semester(022026-052026)-candle@candle.fmph.uniba.sk
DTSTAMP:20260425T221414Z
CATEGORIES:Prednáška
DESCRIPTION:Prednáška\n\nVyučujúci:\n - M. Maheľ\n
DTSTART;TZID=Europe/Bratislava:20260219T131000
DTEND;TZID=Europe/Bratislava:20260219T144000
LOCATION:F2-272
RRULE:FREQ=WEEKLY;UNTIL=20260523T000000Z
SUMMARY:Elektronika
END:VEVENT
END:VCALENDAR
