BEGIN:VCALENDAR
VERSION:2.0
PRODID:-//candle.fmph.uniba.sk//NONSGML kigkonsult.se iCalcreator 2.16.12//
METHOD:PUBLISH
X-WR-CALNAME:M. Demetrian
X-WR-CALDESC:Rozvrh hodín vyexportovaný pomocou Candle\, https://github.com
 /fmfi-svt/candle
X-WR-TIMEZONE:Europe/Bratislava
BEGIN:VEVENT
UID:lesson(412)-semester(022026-052026)-candle@candle.fmph.uniba.sk
DTSTAMP:20260424T231835Z
CATEGORIES:Prednáška
DESCRIPTION:Prednáška\n\nVyučujúci:\n - M. Demetrian\n
DTSTART;TZID=Europe/Bratislava:20260216T095000
DTEND;TZID=Europe/Bratislava:20260216T112000
LOCATION:F1-109
RRULE:FREQ=WEEKLY;UNTIL=20260523T000000Z
SUMMARY:Nelineárna optimalizácia
END:VEVENT
BEGIN:VEVENT
UID:lesson(488)-semester(022026-052026)-candle@candle.fmph.uniba.sk
DTSTAMP:20260424T231835Z
CATEGORIES:Kurz
DESCRIPTION:Kurz\n\nVyučujúci:\n - M. Demetrian\n
DTSTART;TZID=Europe/Bratislava:20260217T113000
DTEND;TZID=Europe/Bratislava:20260217T130000
LOCATION:M-II
RRULE:FREQ=WEEKLY;UNTIL=20260523T000000Z
SUMMARY:Matematika v jazyku Python
END:VEVENT
BEGIN:VEVENT
UID:lesson(414)-semester(022026-052026)-candle@candle.fmph.uniba.sk
DTSTAMP:20260424T231835Z
CATEGORIES:Prednáška
DESCRIPTION:Prednáška\n\nVyučujúci:\n - M. Demetrian\n
DTSTART;TZID=Europe/Bratislava:20260217T145000
DTEND;TZID=Europe/Bratislava:20260217T170500
LOCATION:F1-108
RRULE:FREQ=WEEKLY;UNTIL=20260523T000000Z
SUMMARY:Základy matematiky (4)
END:VEVENT
BEGIN:VEVENT
UID:lesson(413)-semester(022026-052026)-candle@candle.fmph.uniba.sk
DTSTAMP:20260424T231835Z
CATEGORIES:Cvičenie
DESCRIPTION:Cvičenie\n\nVyučujúci:\n - M. Demetrian\n
DTSTART;TZID=Europe/Bratislava:20260218T081000
DTEND;TZID=Europe/Bratislava:20260218T094000
LOCATION:M-V
RRULE:FREQ=WEEKLY;UNTIL=20260523T000000Z
SUMMARY:Nelineárna optimalizácia
END:VEVENT
BEGIN:VEVENT
UID:lesson(422)-semester(022026-052026)-candle@candle.fmph.uniba.sk
DTSTAMP:20260424T231835Z
CATEGORIES:Cvičenie
DESCRIPTION:Cvičenie\n\nVyučujúci:\n - M. Demetrian\n
DTSTART;TZID=Europe/Bratislava:20260218T131000
DTEND;TZID=Europe/Bratislava:20260218T144000
LOCATION:F1
RRULE:FREQ=WEEKLY;UNTIL=20260523T000000Z
SUMMARY:Základy matematiky (4)
END:VEVENT
BEGIN:VEVENT
UID:lesson(423)-semester(022026-052026)-candle@candle.fmph.uniba.sk
DTSTAMP:20260424T231835Z
CATEGORIES:Kurz
DESCRIPTION:Kurz\n\nVyučujúci:\n - M. Demetrian\n
DTSTART;TZID=Europe/Bratislava:20260219T145000
DTEND;TZID=Europe/Bratislava:20260219T162000
LOCATION:F2
RRULE:FREQ=WEEKLY;UNTIL=20260523T000000Z
SUMMARY:Matematická analýza (4)
END:VEVENT
END:VCALENDAR
