BEGIN:VCALENDAR
VERSION:2.0
PRODID:-//candle.fmph.uniba.sk//NONSGML kigkonsult.se iCalcreator 2.16.12//
METHOD:PUBLISH
X-WR-CALNAME:M. Babincová
X-WR-CALDESC:Rozvrh hodín vyexportovaný pomocou Candle\, https://github.com
 /fmfi-svt/candle
X-WR-TIMEZONE:Europe/Bratislava
BEGIN:VEVENT
UID:lesson(584)-semester(022026-052026)-candle@candle.fmph.uniba.sk
DTSTAMP:20260424T193310Z
CATEGORIES:Labák
DESCRIPTION:Labák\n\nVyučujúci:\n - M. Zvarík\n - M. Babincová\n
DTSTART;TZID=Europe/Bratislava:20260217T113000
DTEND;TZID=Europe/Bratislava:20260217T134500
LOCATION:F1-222
RRULE:FREQ=WEEKLY;UNTIL=20260523T000000Z
SUMMARY:Praktikum z mechaniky a molekulovej fyziky
END:VEVENT
BEGIN:VEVENT
UID:lesson(585)-semester(022026-052026)-candle@candle.fmph.uniba.sk
DTSTAMP:20260424T193310Z
CATEGORIES:Labák
DESCRIPTION:Labák\n\nVyučujúci:\n - M. Zvarík\n - M. Babincová\n
DTSTART;TZID=Europe/Bratislava:20260217T113000
DTEND;TZID=Europe/Bratislava:20260217T134500
LOCATION:F1-223
RRULE:FREQ=WEEKLY;UNTIL=20260523T000000Z
SUMMARY:Praktikum z mechaniky a molekulovej fyziky
END:VEVENT
BEGIN:VEVENT
UID:lesson(514)-semester(022026-052026)-candle@candle.fmph.uniba.sk
DTSTAMP:20260424T193310Z
CATEGORIES:Prednáška
DESCRIPTION:Prednáška\n\nVyučujúci:\n - M. Babincová\n
DTSTART;TZID=Europe/Bratislava:20260217T140000
DTEND;TZID=Europe/Bratislava:20260217T153000
LOCATION:F1-326
RRULE:FREQ=WEEKLY;UNTIL=20260523T000000Z
SUMMARY:Nanoštruktúry v biofyzike a medicíne
END:VEVENT
BEGIN:VEVENT
UID:lesson(596)-semester(022026-052026)-candle@candle.fmph.uniba.sk
DTSTAMP:20260424T193310Z
CATEGORIES:Labák
DESCRIPTION:Labák\n\nVyučujúci:\n - M. Zvarík\n - M. Babincová\n
DTSTART;TZID=Europe/Bratislava:20260217T154000
DTEND;TZID=Europe/Bratislava:20260217T175500
LOCATION:F2-s109
RRULE:FREQ=WEEKLY;UNTIL=20260523T000000Z
SUMMARY:Špeciálne praktikum z biomedicínskej fyziky (2)
END:VEVENT
BEGIN:VEVENT
UID:lesson(1021)-semester(022026-052026)-candle@candle.fmph.uniba.sk
DTSTAMP:20260424T193310Z
CATEGORIES:Prednáška
DESCRIPTION:Prednáška\n\nVyučujúci:\n - M. Babincová\n
DTSTART;TZID=Europe/Bratislava:20260219T090000
DTEND;TZID=Europe/Bratislava:20260219T103000
LOCATION:F1-oBMF
RRULE:FREQ=WEEKLY;UNTIL=20260523T000000Z
SUMMARY:Environmentálna biofyzika
END:VEVENT
BEGIN:VEVENT
UID:lesson(1022)-semester(022026-052026)-candle@candle.fmph.uniba.sk
DTSTAMP:20260424T193310Z
CATEGORIES:Cvičenie
DESCRIPTION:Cvičenie\n\nVyučujúci:\n - M. Babincová\n
DTSTART;TZID=Europe/Bratislava:20260219T104000
DTEND;TZID=Europe/Bratislava:20260219T121000
LOCATION:F1-oBMF
RRULE:FREQ=WEEKLY;UNTIL=20260523T000000Z
SUMMARY:Environmentálna biofyzika
END:VEVENT
END:VCALENDAR
