BEGIN:VCALENDAR
VERSION:2.0
PRODID:-//candle.fmph.uniba.sk//NONSGML kigkonsult.se iCalcreator 2.16.12//
METHOD:PUBLISH
X-WR-CALNAME:M. Takáč
X-WR-CALDESC:Rozvrh hodín vyexportovaný pomocou Candle\, https://github.com
 /fmfi-svt/candle
X-WR-TIMEZONE:Europe/Bratislava
BEGIN:VEVENT
UID:lesson(295)-semester(022026-052026)-candle@candle.fmph.uniba.sk
DTSTAMP:20260424T212249Z
CATEGORIES:Seminár
DESCRIPTION:Seminár\n\nVyučujúci:\n - I. Farkaš\n - Ľ. Beňušková\n - M. Tak
 áč\n - K. Malinovská\n - M. Fandl\n - I. Bečková\n - Š. Pócoš\n
DTSTART;TZID=Europe/Bratislava:20260218T113000
DTEND;TZID=Europe/Bratislava:20260218T130000
LOCATION:I-8
RRULE:FREQ=WEEKLY;UNTIL=20260523T000000Z
SUMMARY:Seminár CNC
END:VEVENT
BEGIN:VEVENT
UID:lesson(568)-semester(022026-052026)-candle@candle.fmph.uniba.sk
DTSTAMP:20260424T212249Z
CATEGORIES:Kurz
DESCRIPTION:Kurz\n\nVyučujúci:\n - B. Cimrová\n - M. Takáč\n
DTSTART;TZID=Europe/Bratislava:20260218T131000
DTEND;TZID=Europe/Bratislava:20260218T161000
LOCATION:I-23
RRULE:FREQ=WEEKLY;UNTIL=20260523T000000Z
SUMMARY:Master&#039\;s Thesis Seminar
END:VEVENT
BEGIN:VEVENT
UID:lesson(509)-semester(022026-052026)-candle@candle.fmph.uniba.sk
DTSTAMP:20260424T212249Z
CATEGORIES:Seminár
DESCRIPTION:Seminár\n\nVyučujúci:\n - F. Gyárfáš\n - M. Takáč\n
DTSTART;TZID=Europe/Bratislava:20260219T113000
DTEND;TZID=Europe/Bratislava:20260219T130000
LOCATION:F1-108
RRULE:FREQ=WEEKLY;UNTIL=20260523T000000Z
SUMMARY:Internet\, AI &amp\; spoločnosť
END:VEVENT
BEGIN:VEVENT
UID:lesson(42)-semester(022026-052026)-candle@candle.fmph.uniba.sk
DTSTAMP:20260424T212249Z
CATEGORIES:Seminár
DESCRIPTION:Seminár\n\nVyučujúci:\n - M. Takáč\n
DTSTART;TZID=Europe/Bratislava:20260219T145000
DTEND;TZID=Europe/Bratislava:20260219T162000
LOCATION:I-9
RRULE:FREQ=WEEKLY;UNTIL=20260523T000000Z
SUMMARY:Pedagogická komunikácia
END:VEVENT
BEGIN:VEVENT
UID:lesson(839)-semester(022026-052026)-candle@candle.fmph.uniba.sk
DTSTAMP:20260424T212249Z
CATEGORIES:Seminár
DESCRIPTION:Seminár\n\nVyučujúci:\n - M. Takáč\n
DTSTART;TZID=Europe/Bratislava:20260219T145000
DTEND;TZID=Europe/Bratislava:20260219T162000
LOCATION:I-9
RRULE:FREQ=WEEKLY;UNTIL=20260523T000000Z
SUMMARY:Pedagogická komunikácia
END:VEVENT
END:VCALENDAR
