BEGIN:VCALENDAR
VERSION:2.0
PRODID:-//candle.fmph.uniba.sk//NONSGML kigkonsult.se iCalcreator 2.16.12//
METHOD:PUBLISH
X-WR-CALNAME:M. Sleziak
X-WR-CALDESC:Rozvrh hodín vyexportovaný pomocou Candle\, https://github.com
 /fmfi-svt/candle
X-WR-TIMEZONE:Europe/Bratislava
BEGIN:VEVENT
UID:lesson(261)-semester(022026-052026)-candle@candle.fmph.uniba.sk
DTSTAMP:20260425T010326Z
CATEGORIES:Prednáška
DESCRIPTION:Prednáška\n\nVyučujúci:\n - M. Sleziak\n
DTSTART;TZID=Europe/Bratislava:20260216T113000
DTEND;TZID=Europe/Bratislava:20260216T130000
LOCATION:F2
RRULE:FREQ=WEEKLY;UNTIL=20260523T000000Z
SUMMARY:Algebra (2)
END:VEVENT
BEGIN:VEVENT
UID:lesson(800)-semester(022026-052026)-candle@candle.fmph.uniba.sk
DTSTAMP:20260425T010326Z
CATEGORIES:Prednáška
DESCRIPTION:Prednáška\n\nVyučujúci:\n - M. Sleziak\n
DTSTART;TZID=Europe/Bratislava:20260217T163000
DTEND;TZID=Europe/Bratislava:20260217T180000
LOCATION:M-X
RRULE:FREQ=WEEKLY;UNTIL=20260523T000000Z
SUMMARY:Teória čísel (2)
END:VEVENT
BEGIN:VEVENT
UID:lesson(893)-semester(022026-052026)-candle@candle.fmph.uniba.sk
DTSTAMP:20260425T010326Z
CATEGORIES:Cvičenie
DESCRIPTION:Cvičenie\n\nPoznámka: rozdelenie určí vyučujúci\n\nVyučujúci:\n
  - M. Sleziak\n
DTSTART;TZID=Europe/Bratislava:20260218T163000
DTEND;TZID=Europe/Bratislava:20260218T180000
LOCATION:M-III
RRULE:FREQ=WEEKLY;UNTIL=20260523T000000Z
SUMMARY:Algebra (2)
END:VEVENT
BEGIN:VEVENT
UID:lesson(1160)-semester(022026-052026)-candle@candle.fmph.uniba.sk
DTSTAMP:20260425T010326Z
CATEGORIES:Cvičenie
DESCRIPTION:Cvičenie\n\nPoznámka: každý druhý týždeň\n\nVyučujúci:\n - M. S
 leziak\n
DTSTART;TZID=Europe/Bratislava:20260219T081000
DTEND;TZID=Europe/Bratislava:20260219T094000
LOCATION:M-IX
RRULE:FREQ=WEEKLY;UNTIL=20260523T000000Z
SUMMARY:Diskrétna matematika (2)
END:VEVENT
BEGIN:VEVENT
UID:lesson(1159)-semester(022026-052026)-candle@candle.fmph.uniba.sk
DTSTAMP:20260425T010326Z
CATEGORIES:Výber/Vol
DESCRIPTION:Výber/Vol\n\nVyučujúci:\n - M. Sleziak\n
DTSTART;TZID=Europe/Bratislava:20260219T095000
DTEND;TZID=Europe/Bratislava:20260219T112000
LOCATION:M-IX
RRULE:FREQ=WEEKLY;UNTIL=20260523T000000Z
SUMMARY:Diskrétna matematika (2)
END:VEVENT
BEGIN:VEVENT
UID:lesson(799)-semester(022026-052026)-candle@candle.fmph.uniba.sk
DTSTAMP:20260425T010326Z
CATEGORIES:Seminár
DESCRIPTION:Seminár\n\nVyučujúci:\n - M. Sleziak\n
DTSTART;TZID=Europe/Bratislava:20260220T081000
DTEND;TZID=Europe/Bratislava:20260220T094000
LOCATION:M-126
RRULE:FREQ=WEEKLY;UNTIL=20260523T000000Z
SUMMARY:Seminár z teórie čísel (2)
END:VEVENT
END:VCALENDAR
