BEGIN:VCALENDAR
VERSION:2.0
PRODID:-//candle.fmph.uniba.sk//NONSGML kigkonsult.se iCalcreator 2.16.12//
METHOD:PUBLISH
X-WR-CALNAME:M. Moško
X-WR-CALDESC:Rozvrh hodín vyexportovaný pomocou Candle\, https://github.com
 /fmfi-svt/candle
X-WR-TIMEZONE:Europe/Bratislava
BEGIN:VEVENT
UID:lesson(902)-semester(022026-052026)-candle@candle.fmph.uniba.sk
DTSTAMP:20260424T231822Z
CATEGORIES:Prednáška
DESCRIPTION:Prednáška\n\nVyučujúci:\n - M. Moško\n
DTSTART;TZID=Europe/Bratislava:20260216T113000
DTEND;TZID=Europe/Bratislava:20260216T130000
LOCATION:F2-223
RRULE:FREQ=WEEKLY;UNTIL=20260523T000000Z
SUMMARY:Fyzika polovodičov a polovodičových súčiastok
END:VEVENT
BEGIN:VEVENT
UID:lesson(903)-semester(022026-052026)-candle@candle.fmph.uniba.sk
DTSTAMP:20260424T231822Z
CATEGORIES:Prednáška
DESCRIPTION:Prednáška\n\nVyučujúci:\n - M. Moško\n
DTSTART;TZID=Europe/Bratislava:20260217T140000
DTEND;TZID=Europe/Bratislava:20260217T153000
LOCATION:F2-223
RRULE:FREQ=WEEKLY;UNTIL=20260523T000000Z
SUMMARY:Fyzika polovodičov a polovodičových súčiastok
END:VEVENT
BEGIN:VEVENT
UID:lesson(904)-semester(022026-052026)-candle@candle.fmph.uniba.sk
DTSTAMP:20260424T231822Z
CATEGORIES:Prednáška
DESCRIPTION:Prednáška\n\nVyučujúci:\n - M. Moško\n
DTSTART;TZID=Europe/Bratislava:20260220T090000
DTEND;TZID=Europe/Bratislava:20260220T111500
LOCATION:F2-272
RRULE:FREQ=WEEKLY;UNTIL=20260523T000000Z
SUMMARY:Elektróny v neusporiadaných a mezoskopických systémoch
END:VEVENT
END:VCALENDAR
