BEGIN:VCALENDAR
VERSION:2.0
PRODID:-//candle.fmph.uniba.sk//NONSGML kigkonsult.se iCalcreator 2.16.12//
METHOD:PUBLISH
X-WR-CALNAME:M. Mačaj
X-WR-CALDESC:Rozvrh hodín vyexportovaný pomocou Candle\, https://github.com
 /fmfi-svt/candle
X-WR-TIMEZONE:Europe/Bratislava
BEGIN:VEVENT
UID:lesson(930)-semester(022026-052026)-candle@candle.fmph.uniba.sk
DTSTAMP:20260424T231847Z
CATEGORIES:Prednáška
DESCRIPTION:Prednáška\n\nVyučujúci:\n - M. Mačaj\n
DTSTART;TZID=Europe/Bratislava:20260216T095000
DTEND;TZID=Europe/Bratislava:20260216T112000
LOCATION:M-VII
RRULE:FREQ=WEEKLY;UNTIL=20260523T000000Z
SUMMARY:Algebra (2)
END:VEVENT
BEGIN:VEVENT
UID:lesson(928)-semester(022026-052026)-candle@candle.fmph.uniba.sk
DTSTAMP:20260424T231847Z
CATEGORIES:Cvičenie
DESCRIPTION:Cvičenie\n\nVyučujúci:\n - M. Mačaj\n
DTSTART;TZID=Europe/Bratislava:20260217T163000
DTEND;TZID=Europe/Bratislava:20260217T171500
LOCATION:M-IX
RRULE:FREQ=WEEKLY;UNTIL=20260523T000000Z
SUMMARY:Algebra (2)
END:VEVENT
BEGIN:VEVENT
UID:lesson(929)-semester(022026-052026)-candle@candle.fmph.uniba.sk
DTSTAMP:20260424T231847Z
CATEGORIES:Výber/Vol
DESCRIPTION:Výber/Vol\n\nVyučujúci:\n - M. Mačaj\n
DTSTART;TZID=Europe/Bratislava:20260217T172000
DTEND;TZID=Europe/Bratislava:20260217T180500
LOCATION:M-IX
RRULE:FREQ=WEEKLY;UNTIL=20260523T000000Z
SUMMARY:Cvičenie z algebry (2)
END:VEVENT
BEGIN:VEVENT
UID:lesson(803)-semester(022026-052026)-candle@candle.fmph.uniba.sk
DTSTAMP:20260424T231847Z
CATEGORIES:Prednáška
DESCRIPTION:Prednáška\n\nVyučujúci:\n - M. Mačaj\n
DTSTART;TZID=Europe/Bratislava:20260218T095000
DTEND;TZID=Europe/Bratislava:20260218T112000
LOCATION:M-126
RRULE:FREQ=WEEKLY;UNTIL=20260523T000000Z
SUMMARY:Teória polí (2)
END:VEVENT
BEGIN:VEVENT
UID:lesson(71)-semester(022026-052026)-candle@candle.fmph.uniba.sk
DTSTAMP:20260424T231847Z
CATEGORIES:Výber/Vol
DESCRIPTION:Výber/Vol\n\nVyučujúci:\n - M. Mačaj\n
DTSTART;TZID=Europe/Bratislava:20260219T131000
DTEND;TZID=Europe/Bratislava:20260219T144000
LOCATION:M-I
RRULE:FREQ=WEEKLY;UNTIL=20260523T000000Z
SUMMARY:Úvod do teórie grafov
END:VEVENT
BEGIN:VEVENT
UID:lesson(798)-semester(022026-052026)-candle@candle.fmph.uniba.sk
DTSTAMP:20260424T231847Z
CATEGORIES:Prednáška
DESCRIPTION:Prednáška\n\nVyučujúci:\n - M. Mačaj\n
DTSTART;TZID=Europe/Bratislava:20260220T104000
DTEND;TZID=Europe/Bratislava:20260220T121000
LOCATION:M-126
RRULE:FREQ=WEEKLY;UNTIL=20260523T000000Z
SUMMARY:Algebraická teória čísel
END:VEVENT
BEGIN:VEVENT
UID:lesson(459)-semester(022026-052026)-candle@candle.fmph.uniba.sk
DTSTAMP:20260424T231847Z
CATEGORIES:Seminár
DESCRIPTION:Seminár\n\nVyučujúci:\n - M. Mačaj\n - R. Jajcay\n
DTSTART;TZID=Europe/Bratislava:20260220T122000
DTEND;TZID=Europe/Bratislava:20260220T152000
LOCATION:M-IX
RRULE:FREQ=WEEKLY;UNTIL=20260523T000000Z
SUMMARY:Seminár z algebraickej teórie grafov
END:VEVENT
END:VCALENDAR
