BEGIN:VCALENDAR
VERSION:2.0
PRODID:-//candle.fmph.uniba.sk//NONSGML kigkonsult.se iCalcreator 2.16.12//
METHOD:PUBLISH
X-WR-CALNAME:M. Kremler
X-WR-CALDESC:Rozvrh hodín vyexportovaný pomocou Candle\, https://github.com
 /fmfi-svt/candle
X-WR-TIMEZONE:Europe/Bratislava
BEGIN:VEVENT
UID:lesson(824)-semester(022026-052026)-candle@candle.fmph.uniba.sk
DTSTAMP:20260424T193039Z
CATEGORIES:Prednáška
DESCRIPTION:Prednáška\n\nVyučujúci:\n - M. Kremler\n
DTSTART;TZID=Europe/Bratislava:20260216T163000
DTEND;TZID=Europe/Bratislava:20260216T180000
LOCATION:F1-357
RRULE:FREQ=WEEKLY;UNTIL=20260523T000000Z
SUMMARY:Geografické informačné systémy
END:VEVENT
BEGIN:VEVENT
UID:lesson(157)-semester(022026-052026)-candle@candle.fmph.uniba.sk
DTSTAMP:20260424T193039Z
CATEGORIES:Prednáška
DESCRIPTION:Prednáška\n\nVyučujúci:\n - M. Kremler\n
DTSTART;TZID=Europe/Bratislava:20260218T163000
DTEND;TZID=Europe/Bratislava:20260218T180000
LOCATION:B1-307
RRULE:FREQ=WEEKLY;UNTIL=20260523T000000Z
SUMMARY:Klimatológia a meteorológia
END:VEVENT
BEGIN:VEVENT
UID:lesson(813)-semester(022026-052026)-candle@candle.fmph.uniba.sk
DTSTAMP:20260424T193039Z
CATEGORIES:Kurz
DESCRIPTION:Kurz\n\nVyučujúci:\n - M. Kremler\n
DTSTART;TZID=Europe/Bratislava:20260219T154000
DTEND;TZID=Europe/Bratislava:20260219T175500
LOCATION:F1-357
RRULE:FREQ=WEEKLY;UNTIL=20260523T000000Z
SUMMARY:Šírenie znečisťujúcich látok v životnom prostredí
END:VEVENT
END:VCALENDAR
