BEGIN:VCALENDAR
VERSION:2.0
PRODID:-//candle.fmph.uniba.sk//NONSGML kigkonsult.se iCalcreator 2.16.12//
METHOD:PUBLISH
X-WR-CALNAME:M. Gera
X-WR-CALDESC:Rozvrh hodín vyexportovaný pomocou Candle\, https://github.com
 /fmfi-svt/candle
X-WR-TIMEZONE:Europe/Bratislava
BEGIN:VEVENT
UID:lesson(812)-semester(022026-052026)-candle@candle.fmph.uniba.sk
DTSTAMP:20260424T212253Z
CATEGORIES:Kurz
DESCRIPTION:Kurz\n\nVyučujúci:\n - M. Gera\n
DTSTART;TZID=Europe/Bratislava:20260216T081000
DTEND;TZID=Europe/Bratislava:20260216T094000
LOCATION:M-IV
RRULE:FREQ=WEEKLY;UNTIL=20260523T000000Z
SUMMARY:Základy meteorológie a klimatológie
END:VEVENT
BEGIN:VEVENT
UID:lesson(818)-semester(022026-052026)-candle@candle.fmph.uniba.sk
DTSTAMP:20260424T212253Z
CATEGORIES:Prednáška
DESCRIPTION:Prednáška\n\nVyučujúci:\n - M. Gera\n
DTSTART;TZID=Europe/Bratislava:20260218T090000
DTEND;TZID=Europe/Bratislava:20260218T111500
LOCATION:F1-357
RRULE:FREQ=WEEKLY;UNTIL=20260523T000000Z
SUMMARY:Dynamické predpovedné metódy
END:VEVENT
BEGIN:VEVENT
UID:lesson(1168)-semester(022026-052026)-candle@candle.fmph.uniba.sk
DTSTAMP:20260424T212253Z
CATEGORIES:Seminár
DESCRIPTION:Seminár\n\nVyučujúci:\n - Z. Machala\n - M. Gera\n
DTSTART;TZID=Europe/Bratislava:20260218T131000
DTEND;TZID=Europe/Bratislava:20260218T144000
LOCATION:F1-357
RRULE:FREQ=WEEKLY;UNTIL=20260523T000000Z
SUMMARY:Diplomový seminár (2)
END:VEVENT
BEGIN:VEVENT
UID:lesson(1169)-semester(022026-052026)-candle@candle.fmph.uniba.sk
DTSTAMP:20260424T212253Z
CATEGORIES:Prednáška
DESCRIPTION:Prednáška\n\nVyučujúci:\n - M. Gera\n
DTSTART;TZID=Europe/Bratislava:20260219T113000
DTEND;TZID=Europe/Bratislava:20260219T134500
LOCATION:F1-358
RRULE:FREQ=WEEKLY;UNTIL=20260523T000000Z
SUMMARY:Vybrané kapitoly z dynamickej a numerickej meteorológie
END:VEVENT
END:VCALENDAR
