BEGIN:VCALENDAR
VERSION:2.0
PRODID:-//candle.fmph.uniba.sk//NONSGML kigkonsult.se iCalcreator 2.16.12//
METHOD:PUBLISH
X-WR-CALNAME:M. Melo
X-WR-CALDESC:Rozvrh hodín vyexportovaný pomocou Candle\, https://github.com
 /fmfi-svt/candle
X-WR-TIMEZONE:Europe/Bratislava
BEGIN:VEVENT
UID:lesson(1050)-semester(022026-052026)-candle@candle.fmph.uniba.sk
DTSTAMP:20260424T193141Z
CATEGORIES:Prednáška
DESCRIPTION:Prednáška\n\nVyučujúci:\n - M. Melo\n
DTSTART;TZID=Europe/Bratislava:20260217T113000
DTEND;TZID=Europe/Bratislava:20260217T130000
LOCATION:F1-357
RRULE:FREQ=WEEKLY;UNTIL=20260523T000000Z
SUMMARY:Fyzikálne aspekty geografického systému
END:VEVENT
BEGIN:VEVENT
UID:lesson(1051)-semester(022026-052026)-candle@candle.fmph.uniba.sk
DTSTAMP:20260424T193141Z
CATEGORIES:Cvičenie
DESCRIPTION:Cvičenie\n\nVyučujúci:\n - M. Melo\n
DTSTART;TZID=Europe/Bratislava:20260217T131000
DTEND;TZID=Europe/Bratislava:20260217T135500
LOCATION:F1-357
RRULE:FREQ=WEEKLY;UNTIL=20260523T000000Z
SUMMARY:Fyzikálne aspekty geografického systému
END:VEVENT
BEGIN:VEVENT
UID:lesson(502)-semester(022026-052026)-candle@candle.fmph.uniba.sk
DTSTAMP:20260424T193141Z
CATEGORIES:Prednáška
DESCRIPTION:Prednáška\n\nVyučujúci:\n - J. Tóth\n - M. Melo\n
DTSTART;TZID=Europe/Bratislava:20260219T104000
DTEND;TZID=Europe/Bratislava:20260219T121000
LOCATION:F1-357
RRULE:FREQ=WEEKLY;UNTIL=20260523T000000Z
SUMMARY:Astronómia a meteorológia
END:VEVENT
BEGIN:VEVENT
UID:lesson(503)-semester(022026-052026)-candle@candle.fmph.uniba.sk
DTSTAMP:20260424T193141Z
CATEGORIES:Cvičenie
DESCRIPTION:Cvičenie\n\nVyučujúci:\n - M. Melo\n - M. Paprskárová\n
DTSTART;TZID=Europe/Bratislava:20260219T122000
DTEND;TZID=Europe/Bratislava:20260219T130500
LOCATION:F1-357
RRULE:FREQ=WEEKLY;UNTIL=20260523T000000Z
SUMMARY:Astronómia a meteorológia
END:VEVENT
END:VCALENDAR
