BEGIN:VCALENDAR
VERSION:2.0
PRODID:-//candle.fmph.uniba.sk//NONSGML kigkonsult.se iCalcreator 2.16.12//
METHOD:PUBLISH
X-WR-CALNAME:M. Slavíčková
X-WR-CALDESC:Rozvrh hodín vyexportovaný pomocou Candle\, https://github.com
 /fmfi-svt/candle
X-WR-TIMEZONE:Europe/Bratislava
BEGIN:VEVENT
UID:lesson(49)-semester(022026-052026)-candle@candle.fmph.uniba.sk
DTSTAMP:20260425T030249Z
CATEGORIES:Seminár
DESCRIPTION:Seminár\n\nVyučujúci:\n - M. Slavíčková\n
DTSTART;TZID=Europe/Bratislava:20260218T163000
DTEND;TZID=Europe/Bratislava:20260218T180000
LOCATION:M-I
RRULE:FREQ=WEEKLY;UNTIL=20260523T000000Z
SUMMARY:Úvod do didaktiky matematiky
END:VEVENT
END:VCALENDAR
