BEGIN:VCALENDAR
VERSION:2.0
PRODID:-//candle.fmph.uniba.sk//NONSGML kigkonsult.se iCalcreator 2.16.12//
METHOD:PUBLISH
X-WR-CALNAME:M. Morvová
X-WR-CALDESC:Rozvrh hodín vyexportovaný pomocou Candle\, https://github.com
 /fmfi-svt/candle
X-WR-TIMEZONE:Europe/Bratislava
BEGIN:VEVENT
UID:lesson(825)-semester(022026-052026)-candle@candle.fmph.uniba.sk
DTSTAMP:20260424T212422Z
CATEGORIES:Kurz
DESCRIPTION:Kurz\n\nVyučujúci:\n - M. Morvová\n - R. Cimerman\n
DTSTART;TZID=Europe/Bratislava:20260218T090000
DTEND;TZID=Europe/Bratislava:20260218T103000
LOCATION:F2-s167
RRULE:FREQ=WEEKLY;UNTIL=20260523T000000Z
SUMMARY:Obnoviteľné zdroje energie
END:VEVENT
END:VCALENDAR
