BEGIN:VCALENDAR
VERSION:2.0
PRODID:-//candle.fmph.uniba.sk//NONSGML kigkonsult.se iCalcreator 2.16.12//
METHOD:PUBLISH
X-WR-CALNAME:L. Bartošovič
X-WR-CALDESC:Rozvrh hodín vyexportovaný pomocou Candle\, https://github.com
 /fmfi-svt/candle
X-WR-TIMEZONE:Europe/Bratislava
BEGIN:VEVENT
UID:lesson(381)-semester(022026-052026)-candle@candle.fmph.uniba.sk
DTSTAMP:20260424T193212Z
CATEGORIES:Kurz
DESCRIPTION:Kurz\n\nVyučujúci:\n - L. Bartošovič\n
DTSTART;TZID=Europe/Bratislava:20260216T081000
DTEND;TZID=Europe/Bratislava:20260216T094000
LOCATION:F2-126
RRULE:FREQ=WEEKLY;UNTIL=20260523T000000Z
SUMMARY:Hodnotenie výsledkov prírodovedného vzdelávania
END:VEVENT
BEGIN:VEVENT
UID:lesson(265)-semester(022026-052026)-candle@candle.fmph.uniba.sk
DTSTAMP:20260424T193212Z
CATEGORIES:Cvičenie
DESCRIPTION:Cvičenie\n\nVyučujúci:\n - L. Bartošovič\n
DTSTART;TZID=Europe/Bratislava:20260217T081000
DTEND;TZID=Europe/Bratislava:20260217T102500
LOCATION:F1-151
RRULE:FREQ=WEEKLY;UNTIL=20260523T000000Z
SUMMARY:Laboratórne cvičenia z fyziky (2)
END:VEVENT
BEGIN:VEVENT
UID:lesson(98)-semester(022026-052026)-candle@candle.fmph.uniba.sk
DTSTAMP:20260424T193212Z
CATEGORIES:Cvičenie
DESCRIPTION:Cvičenie\n\nVyučujúci:\n - L. Bartošovič\n
DTSTART;TZID=Europe/Bratislava:20260217T113000
DTEND;TZID=Europe/Bratislava:20260217T130000
LOCATION:F1-109
RRULE:FREQ=WEEKLY;UNTIL=20260523T000000Z
SUMMARY:Doplnkové cvičenia z fyziky (2)
END:VEVENT
BEGIN:VEVENT
UID:lesson(131)-semester(022026-052026)-candle@candle.fmph.uniba.sk
DTSTAMP:20260424T193212Z
CATEGORIES:Cvičenie
DESCRIPTION:Cvičenie\n\nVyučujúci:\n - L. Bartošovič\n
DTSTART;TZID=Europe/Bratislava:20260217T113000
DTEND;TZID=Europe/Bratislava:20260217T130000
LOCATION:F1-109
RRULE:FREQ=WEEKLY;UNTIL=20260523T000000Z
SUMMARY:Doplnkové cvičenia z  fyziky (2)
END:VEVENT
BEGIN:VEVENT
UID:lesson(21)-semester(022026-052026)-candle@candle.fmph.uniba.sk
DTSTAMP:20260424T193212Z
CATEGORIES:Prednáška
DESCRIPTION:Prednáška\n\nVyučujúci:\n - L. Bartošovič\n
DTSTART;TZID=Europe/Bratislava:20260217T145000
DTEND;TZID=Europe/Bratislava:20260217T170500
LOCATION:F1-149
RRULE:FREQ=WEEKLY;UNTIL=20260523T000000Z
SUMMARY:Molekulová fyzika a termodynamika
END:VEVENT
BEGIN:VEVENT
UID:lesson(104)-semester(022026-052026)-candle@candle.fmph.uniba.sk
DTSTAMP:20260424T193212Z
CATEGORIES:Prednáška
DESCRIPTION:Prednáška\n\nVyučujúci:\n - L. Bartošovič\n
DTSTART;TZID=Europe/Bratislava:20260218T181000
DTEND;TZID=Europe/Bratislava:20260218T194000
LOCATION:Ch1-2
RRULE:FREQ=WEEKLY;UNTIL=20260523T000000Z
SUMMARY:Fyzika
END:VEVENT
END:VCALENDAR
