BEGIN:VCALENDAR
VERSION:2.0
PRODID:-//candle.fmph.uniba.sk//NONSGML kigkonsult.se iCalcreator 2.16.12//
METHOD:PUBLISH
X-WR-CALNAME:L. Šikurová
X-WR-CALDESC:Rozvrh hodín vyexportovaný pomocou Candle\, https://github.com
 /fmfi-svt/candle
X-WR-TIMEZONE:Europe/Bratislava
BEGIN:VEVENT
UID:lesson(569)-semester(022026-052026)-candle@candle.fmph.uniba.sk
DTSTAMP:20260424T193040Z
CATEGORIES:Seminár
DESCRIPTION:Seminár\n\nVyučujúci:\n - L. Šikurová\n
DTSTART;TZID=Europe/Bratislava:20260218T131000
DTEND;TZID=Europe/Bratislava:20260218T152500
LOCATION:F1-326
RRULE:FREQ=WEEKLY;UNTIL=20260523T000000Z
SUMMARY:Seminár k ročníkovému projektu
END:VEVENT
BEGIN:VEVENT
UID:lesson(570)-semester(022026-052026)-candle@candle.fmph.uniba.sk
DTSTAMP:20260424T193040Z
CATEGORIES:Seminár
DESCRIPTION:Seminár\n\nVyučujúci:\n - L. Šikurová\n
DTSTART;TZID=Europe/Bratislava:20260219T090000
DTEND;TZID=Europe/Bratislava:20260219T111500
LOCATION:F1-326
RRULE:FREQ=WEEKLY;UNTIL=20260523T000000Z
SUMMARY:Diplomový seminár (2)
END:VEVENT
END:VCALENDAR
