BEGIN:VCALENDAR
VERSION:2.0
PRODID:-//candle.fmph.uniba.sk//NONSGML kigkonsult.se iCalcreator 2.16.12//
METHOD:PUBLISH
X-WR-CALNAME:K. Velmovská
X-WR-CALDESC:Rozvrh hodín vyexportovaný pomocou Candle\, https://github.com
 /fmfi-svt/candle
X-WR-TIMEZONE:Europe/Bratislava
BEGIN:VEVENT
UID:lesson(704)-semester(022026-052026)-candle@candle.fmph.uniba.sk
DTSTAMP:20260425T171936Z
CATEGORIES:Kurz
DESCRIPTION:Kurz\n\nVyučujúci:\n - K. Velmovská\n
DTSTART;TZID=Europe/Bratislava:20260217T081000
DTEND;TZID=Europe/Bratislava:20260217T102500
LOCATION:F1-145
RRULE:FREQ=WEEKLY;UNTIL=20260523T000000Z
SUMMARY:Dizajn materiálov pre prírodovedné vzdelávanie
END:VEVENT
BEGIN:VEVENT
UID:lesson(402)-semester(022026-052026)-candle@candle.fmph.uniba.sk
DTSTAMP:20260425T171936Z
CATEGORIES:Výber/Vol
DESCRIPTION:Výber/Vol\n\nPoznámka: po dohode s vyučujúcim\n\nVyučujúci:\n -
  K. Velmovská\n
DTSTART;TZID=Europe/Bratislava:20260218T081000
DTEND;TZID=Europe/Bratislava:20260218T094000
LOCATION:F1-145
RRULE:FREQ=WEEKLY;UNTIL=20260523T000000Z
SUMMARY:Fyzika netradične
END:VEVENT
BEGIN:VEVENT
UID:lesson(408)-semester(022026-052026)-candle@candle.fmph.uniba.sk
DTSTAMP:20260425T171936Z
CATEGORIES:Seminár
DESCRIPTION:Seminár\n\nVyučujúci:\n - K. Velmovská\n
DTSTART;TZID=Europe/Bratislava:20260218T104000
DTEND;TZID=Europe/Bratislava:20260218T125500
LOCATION:F2-126
RRULE:FREQ=WEEKLY;UNTIL=20260523T000000Z
SUMMARY:Seminár k diplomovej práci (1)
END:VEVENT
BEGIN:VEVENT
UID:lesson(23)-semester(022026-052026)-candle@candle.fmph.uniba.sk
DTSTAMP:20260425T171936Z
CATEGORIES:Kurz
DESCRIPTION:Kurz\n\nVyučujúci:\n - K. Velmovská\n
DTSTART;TZID=Europe/Bratislava:20260219T081000
DTEND;TZID=Europe/Bratislava:20260219T094000
LOCATION:M-II
RRULE:FREQ=WEEKLY;UNTIL=20260523T000000Z
SUMMARY:Matematické metódy vo fyzike (2)
END:VEVENT
BEGIN:VEVENT
UID:lesson(391)-semester(022026-052026)-candle@candle.fmph.uniba.sk
DTSTAMP:20260425T171936Z
CATEGORIES:Seminár
DESCRIPTION:Seminár\n\nVyučujúci:\n - K. Velmovská\n
DTSTART;TZID=Europe/Bratislava:20260219T095000
DTEND;TZID=Europe/Bratislava:20260219T120500
LOCATION:F2-126
RRULE:FREQ=WEEKLY;UNTIL=20260523T000000Z
SUMMARY:Metódy riešenia fyzikálnych úloh
END:VEVENT
END:VCALENDAR
