BEGIN:VCALENDAR
VERSION:2.0
PRODID:-//candle.fmph.uniba.sk//NONSGML kigkonsult.se iCalcreator 2.16.12//
METHOD:PUBLISH
X-WR-CALNAME:.KEFUcitel1
X-WR-CALDESC:Rozvrh hodín vyexportovaný pomocou Candle\, https://github.com
 /fmfi-svt/candle
X-WR-TIMEZONE:Europe/Bratislava
BEGIN:VEVENT
UID:lesson(999)-semester(022026-052026)-candle@candle.fmph.uniba.sk
DTSTAMP:20260424T193131Z
CATEGORIES:Nezadaný typ
DESCRIPTION:Nezadaný typ\n\nVyučujúci:\n - .KEFUcitel1\n
DTSTART;TZID=Europe/Bratislava:20260220T140000
DTEND;TZID=Europe/Bratislava:20260220T170000
LOCATION:F2-KEF
RRULE:FREQ=WEEKLY;UNTIL=20260523T000000Z
SUMMARY:Diplomová práca (1)
END:VEVENT
BEGIN:VEVENT
UID:lesson(1000)-semester(022026-052026)-candle@candle.fmph.uniba.sk
DTSTAMP:20260424T193131Z
CATEGORIES:Nezadaný typ
DESCRIPTION:Nezadaný typ\n\nVyučujúci:\n - .KEFUcitel1\n
DTSTART;TZID=Europe/Bratislava:20260220T140000
DTEND;TZID=Europe/Bratislava:20260220T170000
LOCATION:F2-KEF
RRULE:FREQ=WEEKLY;UNTIL=20260523T000000Z
SUMMARY:Diplomová práca (3)
END:VEVENT
END:VCALENDAR
