BEGIN:VCALENDAR
VERSION:2.0
PRODID:-//candle.fmph.uniba.sk//NONSGML kigkonsult.se iCalcreator 2.16.12//
METHOD:PUBLISH
X-WR-CALNAME:.KAIUcitel1
X-WR-CALDESC:Rozvrh hodín vyexportovaný pomocou Candle\, https://github.com
 /fmfi-svt/candle
X-WR-TIMEZONE:Europe/Bratislava
BEGIN:VEVENT
UID:lesson(2050)-semester(022026-052026)-candle@candle.fmph.uniba.sk
DTSTAMP:20260425T010330Z
CATEGORIES:Kurz
DESCRIPTION:Kurz\n\nPoznámka: online - Computational Models for Complex Sys
 tems\; Simone Tini\, University of Insurbia\n\nVyučujúci:\n - .KAIUcitel1
 \n
DTSTART;TZID=Europe/Bratislava:20260217T081000
DTEND;TZID=Europe/Bratislava:20260217T115500
LOCATION:I-8
RRULE:FREQ=WEEKLY;UNTIL=20260523T000000Z
SUMMARY:Rezervácia - trvalá
END:VEVENT
END:VCALENDAR
