BEGIN:VCALENDAR
VERSION:2.0
PRODID:-//candle.fmph.uniba.sk//NONSGML kigkonsult.se iCalcreator 2.16.12//
METHOD:PUBLISH
X-WR-CALNAME:J. Filo
X-WR-CALDESC:Rozvrh hodín vyexportovaný pomocou Candle\, https://github.com
 /fmfi-svt/candle
X-WR-TIMEZONE:Europe/Bratislava
BEGIN:VEVENT
UID:lesson(460)-semester(022026-052026)-candle@candle.fmph.uniba.sk
DTSTAMP:20260424T231754Z
CATEGORIES:Prednáška
DESCRIPTION:Prednáška\n\nVyučujúci:\n - J. Filo\n
DTSTART;TZID=Europe/Bratislava:20260217T131000
DTEND;TZID=Europe/Bratislava:20260217T144000
LOCATION:F2
RRULE:FREQ=WEEKLY;UNTIL=20260523T000000Z
SUMMARY:Matematika (2)
END:VEVENT
BEGIN:VEVENT
UID:lesson(461)-semester(022026-052026)-candle@candle.fmph.uniba.sk
DTSTAMP:20260424T231754Z
CATEGORIES:Prednáška
DESCRIPTION:Prednáška\n\nVyučujúci:\n - J. Filo\n
DTSTART;TZID=Europe/Bratislava:20260218T095000
DTEND;TZID=Europe/Bratislava:20260218T120500
LOCATION:F2
RRULE:FREQ=WEEKLY;UNTIL=20260523T000000Z
SUMMARY:Matematika (2)
END:VEVENT
BEGIN:VEVENT
UID:lesson(793)-semester(022026-052026)-candle@candle.fmph.uniba.sk
DTSTAMP:20260424T231754Z
CATEGORIES:Seminár
DESCRIPTION:Seminár\n\nVyučujúci:\n - E. Viszus\n - J. Filo\n
DTSTART;TZID=Europe/Bratislava:20260218T113000
DTEND;TZID=Europe/Bratislava:20260218T134500
LOCATION:M-109
RRULE:FREQ=WEEKLY;UNTIL=20260523T000000Z
SUMMARY:Diplomový seminár
END:VEVENT
BEGIN:VEVENT
UID:lesson(785)-semester(022026-052026)-candle@candle.fmph.uniba.sk
DTSTAMP:20260424T231754Z
CATEGORIES:Prednáška
DESCRIPTION:Prednáška\n\nVyučujúci:\n - J. Filo\n
DTSTART;TZID=Europe/Bratislava:20260219T104000
DTEND;TZID=Europe/Bratislava:20260219T121000
LOCATION:M-109
RRULE:FREQ=WEEKLY;UNTIL=20260523T000000Z
SUMMARY:Klasické metódy riešenia parciálnych diferenciálnych rovníc
END:VEVENT
BEGIN:VEVENT
UID:lesson(786)-semester(022026-052026)-candle@candle.fmph.uniba.sk
DTSTAMP:20260424T231754Z
CATEGORIES:Výber/Vol
DESCRIPTION:Výber/Vol\n\nVyučujúci:\n - J. Filo\n
DTSTART;TZID=Europe/Bratislava:20260219T104000
DTEND;TZID=Europe/Bratislava:20260219T121000
LOCATION:M-109
RRULE:FREQ=WEEKLY;UNTIL=20260523T000000Z
SUMMARY:Matematika (6)
END:VEVENT
END:VCALENDAR
