BEGIN:VCALENDAR
VERSION:2.0
PRODID:-//candle.fmph.uniba.sk//NONSGML kigkonsult.se iCalcreator 2.16.12//
METHOD:PUBLISH
X-WR-CALNAME:J. Krcho
X-WR-CALDESC:Rozvrh hodín vyexportovaný pomocou Candle\, https://github.com
 /fmfi-svt/candle
X-WR-TIMEZONE:Europe/Bratislava
BEGIN:VEVENT
UID:lesson(88)-semester(022026-052026)-candle@candle.fmph.uniba.sk
DTSTAMP:20260424T193216Z
CATEGORIES:Kurz
DESCRIPTION:Kurz\n\nVyučujúci:\n - J. Krcho\n
DTSTART;TZID=Europe/Bratislava:20260218T163000
DTEND;TZID=Europe/Bratislava:20260218T180000
LOCATION:I-32
RRULE:FREQ=WEEKLY;UNTIL=20260523T000000Z
SUMMARY:Začínajúci učiteľ v škole
END:VEVENT
BEGIN:VEVENT
UID:lesson(59)-semester(022026-052026)-candle@candle.fmph.uniba.sk
DTSTAMP:20260424T193216Z
CATEGORIES:Seminár
DESCRIPTION:Seminár\n\nVyučujúci:\n - J. Krcho\n
DTSTART;TZID=Europe/Bratislava:20260219T131000
DTEND;TZID=Europe/Bratislava:20260219T144000
LOCATION:I-H3
RRULE:FREQ=WEEKLY;UNTIL=20260523T000000Z
SUMMARY:Roboti ako didaktické pomôcky
END:VEVENT
END:VCALENDAR
