BEGIN:VCALENDAR
VERSION:2.0
PRODID:-//candle.fmph.uniba.sk//NONSGML kigkonsult.se iCalcreator 2.16.12//
METHOD:PUBLISH
X-WR-CALNAME:J. Kaizer
X-WR-CALDESC:Rozvrh hodín vyexportovaný pomocou Candle\, https://github.com
 /fmfi-svt/candle
X-WR-TIMEZONE:Europe/Bratislava
BEGIN:VEVENT
UID:lesson(323)-semester(022026-052026)-candle@candle.fmph.uniba.sk
DTSTAMP:20260425T030301Z
CATEGORIES:Cvičenie
DESCRIPTION:Cvičenie\n\nVyučujúci:\n - J. Kaizer\n
DTSTART;TZID=Europe/Bratislava:20260216T172000
DTEND;TZID=Europe/Bratislava:20260216T180500
LOCATION:M-IX
RRULE:FREQ=WEEKLY;UNTIL=20260523T000000Z
SUMMARY:Atómová a jadrová fyzika
END:VEVENT
BEGIN:VEVENT
UID:lesson(919)-semester(022026-052026)-candle@candle.fmph.uniba.sk
DTSTAMP:20260425T030301Z
CATEGORIES:Prednáška
DESCRIPTION:Prednáška\n\nVyučujúci:\n - J. Kaizer\n
DTSTART;TZID=Europe/Bratislava:20260217T095000
DTEND;TZID=Europe/Bratislava:20260217T112000
LOCATION:F1-oJF
RRULE:FREQ=WEEKLY;UNTIL=20260523T000000Z
SUMMARY:Jadrová energetika
END:VEVENT
BEGIN:VEVENT
UID:lesson(1056)-semester(022026-052026)-candle@candle.fmph.uniba.sk
DTSTAMP:20260425T030301Z
CATEGORIES:Výber/Vol
DESCRIPTION:Výber/Vol\n\nVyučujúci:\n - R. Breier\n - J. Kaizer\n
DTSTART;TZID=Europe/Bratislava:20260217T113000
DTEND;TZID=Europe/Bratislava:20260217T130000
LOCATION:F1-111
RRULE:FREQ=WEEKLY;UNTIL=20260523T000000Z
SUMMARY:Zriedkavé jadrové procesy
END:VEVENT
END:VCALENDAR
