BEGIN:VCALENDAR
VERSION:2.0
PRODID:-//candle.fmph.uniba.sk//NONSGML kigkonsult.se iCalcreator 2.16.12//
METHOD:PUBLISH
X-WR-CALNAME:I. Kalaš
X-WR-CALDESC:Rozvrh hodín vyexportovaný pomocou Candle\, https://github.com
 /fmfi-svt/candle
X-WR-TIMEZONE:Europe/Bratislava
BEGIN:VEVENT
UID:lesson(871)-semester(022026-052026)-candle@candle.fmph.uniba.sk
DTSTAMP:20260424T212244Z
CATEGORIES:Seminár
DESCRIPTION:Seminár\n\nPoznámka: I-26\n\nVyučujúci:\n - I. Kalaš\n
DTSTART;TZID=Europe/Bratislava:20260216T113000
DTEND;TZID=Europe/Bratislava:20260216T134500
LOCATION: 
RRULE:FREQ=WEEKLY;UNTIL=20260523T000000Z
SUMMARY:Návrh a realizácia dizertačného projektu (2)
END:VEVENT
BEGIN:VEVENT
UID:lesson(73)-semester(022026-052026)-candle@candle.fmph.uniba.sk
DTSTAMP:20260424T212244Z
CATEGORIES:Kurz
DESCRIPTION:Kurz\n\nVyučujúci:\n - I. Kalaš\n
DTSTART;TZID=Europe/Bratislava:20260216T163000
DTEND;TZID=Europe/Bratislava:20260216T180000
LOCATION:I-32
RRULE:FREQ=WEEKLY;UNTIL=20260523T000000Z
SUMMARY:Didaktika informatiky (1)
END:VEVENT
BEGIN:VEVENT
UID:lesson(868)-semester(022026-052026)-candle@candle.fmph.uniba.sk
DTSTAMP:20260424T212244Z
CATEGORIES:Seminár
DESCRIPTION:Seminár\n\nVyučujúci:\n - I. Kalaš\n
DTSTART;TZID=Europe/Bratislava:20260220T095000
DTEND;TZID=Europe/Bratislava:20260220T112000
LOCATION:I-32
RRULE:FREQ=WEEKLY;UNTIL=20260523T000000Z
SUMMARY:Odborný seminár pracoviska (2)
END:VEVENT
BEGIN:VEVENT
UID:lesson(869)-semester(022026-052026)-candle@candle.fmph.uniba.sk
DTSTAMP:20260424T212244Z
CATEGORIES:Seminár
DESCRIPTION:Seminár\n\nVyučujúci:\n - I. Kalaš\n
DTSTART;TZID=Europe/Bratislava:20260220T095000
DTEND;TZID=Europe/Bratislava:20260220T112000
LOCATION:I-32
RRULE:FREQ=WEEKLY;UNTIL=20260523T000000Z
SUMMARY:Odborný seminár pracoviska (4)
END:VEVENT
BEGIN:VEVENT
UID:lesson(870)-semester(022026-052026)-candle@candle.fmph.uniba.sk
DTSTAMP:20260424T212244Z
CATEGORIES:Seminár
DESCRIPTION:Seminár\n\nVyučujúci:\n - I. Kalaš\n
DTSTART;TZID=Europe/Bratislava:20260220T095000
DTEND;TZID=Europe/Bratislava:20260220T112000
LOCATION:I-32
RRULE:FREQ=WEEKLY;UNTIL=20260523T000000Z
SUMMARY:Odborný seminár pracoviska (6)
END:VEVENT
END:VCALENDAR
