BEGIN:VCALENDAR
VERSION:2.0
PRODID:-//candle.fmph.uniba.sk//NONSGML kigkonsult.se iCalcreator 2.16.12//
METHOD:PUBLISH
X-WR-CALNAME:I. Zabaikina
X-WR-CALDESC:Rozvrh hodín vyexportovaný pomocou Candle\, https://github.com
 /fmfi-svt/candle
X-WR-TIMEZONE:Europe/Bratislava
BEGIN:VEVENT
UID:lesson(853)-semester(022026-052026)-candle@candle.fmph.uniba.sk
DTSTAMP:20260424T193206Z
CATEGORIES:Cvičenie
DESCRIPTION:Cvičenie\n\nVyučujúci:\n - I. Zabaikina\n
DTSTART;TZID=Europe/Bratislava:20260218T163000
DTEND;TZID=Europe/Bratislava:20260218T180000
LOCATION:F1-108
RRULE:FREQ=WEEKLY;UNTIL=20260523T000000Z
SUMMARY:Matematická analýza (2)
END:VEVENT
BEGIN:VEVENT
UID:lesson(445)-semester(022026-052026)-candle@candle.fmph.uniba.sk
DTSTAMP:20260424T193206Z
CATEGORIES:Výber/Vol
DESCRIPTION:Výber/Vol\n\nVyučujúci:\n - I. Zabaikina\n
DTSTART;TZID=Europe/Bratislava:20260219T154000
DTEND;TZID=Europe/Bratislava:20260219T171000
LOCATION:M-VIII
RRULE:FREQ=WEEKLY;UNTIL=20260523T000000Z
SUMMARY:Matematika (5)
END:VEVENT
BEGIN:VEVENT
UID:lesson(446)-semester(022026-052026)-candle@candle.fmph.uniba.sk
DTSTAMP:20260424T193206Z
CATEGORIES:Cvičenie
DESCRIPTION:Cvičenie\n\nVyučujúci:\n - I. Zabaikina\n
DTSTART;TZID=Europe/Bratislava:20260219T154000
DTEND;TZID=Europe/Bratislava:20260219T171000
LOCATION:M-VIII
RRULE:FREQ=WEEKLY;UNTIL=20260523T000000Z
SUMMARY:Obyčajné diferenciálne rovnice
END:VEVENT
BEGIN:VEVENT
UID:lesson(447)-semester(022026-052026)-candle@candle.fmph.uniba.sk
DTSTAMP:20260424T193206Z
CATEGORIES:Cvičenie
DESCRIPTION:Cvičenie\n\nVyučujúci:\n - I. Zabaikina\n
DTSTART;TZID=Europe/Bratislava:20260219T154000
DTEND;TZID=Europe/Bratislava:20260219T171000
LOCATION:M-VIII
RRULE:FREQ=WEEKLY;UNTIL=20260523T000000Z
SUMMARY:Obyčajné diferenciálne rovnice (1)
END:VEVENT
BEGIN:VEVENT
UID:lesson(854)-semester(022026-052026)-candle@candle.fmph.uniba.sk
DTSTAMP:20260424T193206Z
CATEGORIES:Cvičenie
DESCRIPTION:Cvičenie\n\nVyučujúci:\n - I. Zabaikina\n
DTSTART;TZID=Europe/Bratislava:20260220T113000
DTEND;TZID=Europe/Bratislava:20260220T130000
LOCATION:M-VII
RRULE:FREQ=WEEKLY;UNTIL=20260523T000000Z
SUMMARY:Matematická analýza (2)
END:VEVENT
END:VCALENDAR
