BEGIN:VCALENDAR
VERSION:2.0
PRODID:-//candle.fmph.uniba.sk//NONSGML kigkonsult.se iCalcreator 2.16.12//
METHOD:PUBLISH
X-WR-CALNAME:FMUK
X-WR-CALDESC:Rozvrh hodín vyexportovaný pomocou Candle\, https://github.com
 /fmfi-svt/candle
X-WR-TIMEZONE:Europe/Bratislava
BEGIN:VEVENT
UID:lesson(133)-semester(022026-052026)-candle@candle.fmph.uniba.sk
DTSTAMP:20260424T231829Z
CATEGORIES:Kurz
DESCRIPTION:Kurz\n\nVyučujúci:\n - FMUK\n
DTSTART;TZID=Europe/Bratislava:20260216T090000
DTEND;TZID=Europe/Bratislava:20260216T122500
LOCATION:FM-22/D4
RRULE:FREQ=WEEKLY;UNTIL=20260523T000000Z
SUMMARY:Manažérske rozhodovanie
END:VEVENT
BEGIN:VEVENT
UID:lesson(1174)-semester(022026-052026)-candle@candle.fmph.uniba.sk
DTSTAMP:20260424T231829Z
CATEGORIES:Nezadaný typ
DESCRIPTION:Nezadaný typ\n\nPoznámka: online konzultácia\n\nVyučujúci:\n - 
 FMUK\n
DTSTART;TZID=Europe/Bratislava:20260216T094000
DTEND;TZID=Europe/Bratislava:20260216T102000
LOCATION: 
RRULE:FREQ=WEEKLY;UNTIL=20260523T000000Z
SUMMARY:Personálny manažment
END:VEVENT
BEGIN:VEVENT
UID:lesson(137)-semester(022026-052026)-candle@candle.fmph.uniba.sk
DTSTAMP:20260424T231829Z
CATEGORIES:Prednáška
DESCRIPTION:Prednáška\n\nVyučujúci:\n - FMUK\n
DTSTART;TZID=Europe/Bratislava:20260216T123000
DTEND;TZID=Europe/Bratislava:20260216T135000
LOCATION:FM-2/A1
RRULE:FREQ=WEEKLY;UNTIL=20260523T000000Z
SUMMARY:Operačný manažment a logistika
END:VEVENT
BEGIN:VEVENT
UID:lesson(135)-semester(022026-052026)-candle@candle.fmph.uniba.sk
DTSTAMP:20260424T231829Z
CATEGORIES:Labák
DESCRIPTION:Labák\n\nPoznámka: FM B3-IT\n\nVyučujúci:\n - FMUK\n
DTSTART;TZID=Europe/Bratislava:20260216T140000
DTEND;TZID=Europe/Bratislava:20260216T152000
LOCATION:FM-L4/B4-IT
RRULE:FREQ=WEEKLY;UNTIL=20260523T000000Z
SUMMARY:Modelovanie ekonomických procesov
END:VEVENT
BEGIN:VEVENT
UID:lesson(134)-semester(022026-052026)-candle@candle.fmph.uniba.sk
DTSTAMP:20260424T231829Z
CATEGORIES:Kurz
DESCRIPTION:Kurz\n\nVyučujúci:\n - FMUK\n
DTSTART;TZID=Europe/Bratislava:20260216T153000
DTEND;TZID=Europe/Bratislava:20260216T165000
LOCATION:FM-15/C4
RRULE:FREQ=WEEKLY;UNTIL=20260523T000000Z
SUMMARY:Manažérske účtovníctvo
END:VEVENT
BEGIN:VEVENT
UID:lesson(138)-semester(022026-052026)-candle@candle.fmph.uniba.sk
DTSTAMP:20260424T231829Z
CATEGORIES:Prednáška
DESCRIPTION:Prednáška\n\nVyučujúci:\n - FMUK\n
DTSTART;TZID=Europe/Bratislava:20260216T153000
DTEND;TZID=Europe/Bratislava:20260216T165000
LOCATION:FM-18/C1
RRULE:FREQ=WEEKLY;UNTIL=20260523T000000Z
SUMMARY:Moderný marketing - nové trendy
END:VEVENT
BEGIN:VEVENT
UID:lesson(139)-semester(022026-052026)-candle@candle.fmph.uniba.sk
DTSTAMP:20260424T231829Z
CATEGORIES:Kurz
DESCRIPTION:Kurz\n\nVyučujúci:\n - FMUK\n
DTSTART;TZID=Europe/Bratislava:20260216T170000
DTEND;TZID=Europe/Bratislava:20260216T182000
LOCATION:FM-18/C1
RRULE:FREQ=WEEKLY;UNTIL=20260523T000000Z
SUMMARY:Moderný marketing - nové trendy
END:VEVENT
BEGIN:VEVENT
UID:lesson(136)-semester(022026-052026)-candle@candle.fmph.uniba.sk
DTSTAMP:20260424T231829Z
CATEGORIES:Kurz
DESCRIPTION:Kurz\n\nVyučujúci:\n - FMUK\n
DTSTART;TZID=Europe/Bratislava:20260217T140000
DTEND;TZID=Europe/Bratislava:20260217T152000
LOCATION:FM-L4/B4-IT
RRULE:FREQ=WEEKLY;UNTIL=20260523T000000Z
SUMMARY:Marketingový výskum
END:VEVENT
BEGIN:VEVENT
UID:lesson(141)-semester(022026-052026)-candle@candle.fmph.uniba.sk
DTSTAMP:20260424T231829Z
CATEGORIES:Kurz
DESCRIPTION:Kurz\n\nVyučujúci:\n - FMUK\n
DTSTART;TZID=Europe/Bratislava:20260217T140000
DTEND;TZID=Europe/Bratislava:20260217T152000
LOCATION:FM-18/C1
RRULE:FREQ=WEEKLY;UNTIL=20260523T000000Z
SUMMARY:Marketing
END:VEVENT
BEGIN:VEVENT
UID:lesson(142)-semester(022026-052026)-candle@candle.fmph.uniba.sk
DTSTAMP:20260424T231829Z
CATEGORIES:Kurz
DESCRIPTION:Kurz\n\nVyučujúci:\n - FMUK\n
DTSTART;TZID=Europe/Bratislava:20260217T153000
DTEND;TZID=Europe/Bratislava:20260217T165000
LOCATION:FM-18/C1
RRULE:FREQ=WEEKLY;UNTIL=20260523T000000Z
SUMMARY:Marketing
END:VEVENT
BEGIN:VEVENT
UID:lesson(143)-semester(022026-052026)-candle@candle.fmph.uniba.sk
DTSTAMP:20260424T231829Z
CATEGORIES:Kurz
DESCRIPTION:Kurz\n\nVyučujúci:\n - FMUK\n
DTSTART;TZID=Europe/Bratislava:20260217T170000
DTEND;TZID=Europe/Bratislava:20260217T182000
LOCATION:FM-18/C1
RRULE:FREQ=WEEKLY;UNTIL=20260523T000000Z
SUMMARY:Základy účtovníctva
END:VEVENT
BEGIN:VEVENT
UID:lesson(144)-semester(022026-052026)-candle@candle.fmph.uniba.sk
DTSTAMP:20260424T231829Z
CATEGORIES:Kurz
DESCRIPTION:Kurz\n\nVyučujúci:\n - FMUK\n
DTSTART;TZID=Europe/Bratislava:20260217T183000
DTEND;TZID=Europe/Bratislava:20260217T195000
LOCATION:FM-18/C1
RRULE:FREQ=WEEKLY;UNTIL=20260523T000000Z
SUMMARY:Manažment (2)
END:VEVENT
BEGIN:VEVENT
UID:lesson(1176)-semester(022026-052026)-candle@candle.fmph.uniba.sk
DTSTAMP:20260424T231829Z
CATEGORIES:Nezadaný typ
DESCRIPTION:Nezadaný typ\n\nPoznámka: online konzultácie\n\nVyučujúci:\n - 
 FMUK\n
DTSTART;TZID=Europe/Bratislava:20260218T090000
DTEND;TZID=Europe/Bratislava:20260218T094000
LOCATION: 
RRULE:FREQ=WEEKLY;UNTIL=20260523T000000Z
SUMMARY:Manažérske účtovníctvo
END:VEVENT
BEGIN:VEVENT
UID:lesson(1173)-semester(022026-052026)-candle@candle.fmph.uniba.sk
DTSTAMP:20260424T231829Z
CATEGORIES:Nezadaný typ
DESCRIPTION:Nezadaný typ\n\nPoznámka: online konzultácie\n\nVyučujúci:\n - 
 FMUK\n
DTSTART;TZID=Europe/Bratislava:20260219T090000
DTEND;TZID=Europe/Bratislava:20260219T102000
LOCATION: 
RRULE:FREQ=WEEKLY;UNTIL=20260523T000000Z
SUMMARY:Základy účtovníctva
END:VEVENT
BEGIN:VEVENT
UID:lesson(1175)-semester(022026-052026)-candle@candle.fmph.uniba.sk
DTSTAMP:20260424T231829Z
CATEGORIES:Nezadaný typ
DESCRIPTION:Nezadaný typ\n\nPoznámka: online konzultácie\n\nVyučujúci:\n - 
 FMUK\n
DTSTART;TZID=Europe/Bratislava:20260219T090000
DTEND;TZID=Europe/Bratislava:20260219T094000
LOCATION: 
RRULE:FREQ=WEEKLY;UNTIL=20260523T000000Z
SUMMARY:Operačný manažment a logistika
END:VEVENT
BEGIN:VEVENT
UID:lesson(1177)-semester(022026-052026)-candle@candle.fmph.uniba.sk
DTSTAMP:20260424T231829Z
CATEGORIES:Nezadaný typ
DESCRIPTION:Nezadaný typ\n\nPoznámka: online konzultácie\n\nVyučujúci:\n - 
 FMUK\n
DTSTART;TZID=Europe/Bratislava:20260219T090000
DTEND;TZID=Europe/Bratislava:20260219T094000
LOCATION: 
RRULE:FREQ=WEEKLY;UNTIL=20260523T000000Z
SUMMARY:Modelovanie ekonomických procesov
END:VEVENT
BEGIN:VEVENT
UID:lesson(1178)-semester(022026-052026)-candle@candle.fmph.uniba.sk
DTSTAMP:20260424T231829Z
CATEGORIES:Nezadaný typ
DESCRIPTION:Nezadaný typ\n\nPoznámka: online konzultácie\n\nVyučujúci:\n - 
 FMUK\n
DTSTART;TZID=Europe/Bratislava:20260219T103000
DTEND;TZID=Europe/Bratislava:20260219T111000
LOCATION: 
RRULE:FREQ=WEEKLY;UNTIL=20260523T000000Z
SUMMARY:Manažérske rozhodovanie
END:VEVENT
BEGIN:VEVENT
UID:lesson(1179)-semester(022026-052026)-candle@candle.fmph.uniba.sk
DTSTAMP:20260424T231829Z
CATEGORIES:Nezadaný typ
DESCRIPTION:Nezadaný typ\n\nPoznámka: online konzultácie\n\nVyučujúci:\n - 
 FMUK\n
DTSTART;TZID=Europe/Bratislava:20260219T111000
DTEND;TZID=Europe/Bratislava:20260219T115000
LOCATION: 
RRULE:FREQ=WEEKLY;UNTIL=20260523T000000Z
SUMMARY:Marketingový výskum
END:VEVENT
BEGIN:VEVENT
UID:lesson(140)-semester(022026-052026)-candle@candle.fmph.uniba.sk
DTSTAMP:20260424T231829Z
CATEGORIES:Kurz
DESCRIPTION:Kurz\n\nVyučujúci:\n - FMUK\n
DTSTART;TZID=Europe/Bratislava:20260219T123000
DTEND;TZID=Europe/Bratislava:20260219T135000
LOCATION:FM-16/C3
RRULE:FREQ=WEEKLY;UNTIL=20260523T000000Z
SUMMARY:Personálny manažment
END:VEVENT
END:VCALENDAR
