BEGIN:VCALENDAR
VERSION:2.0
PRODID:-//candle.fmph.uniba.sk//NONSGML kigkonsult.se iCalcreator 2.16.12//
METHOD:PUBLISH
X-WR-CALNAME:E. Foltánová
X-WR-CALDESC:Rozvrh hodín vyexportovaný pomocou Candle\, https://github.com
 /fmfi-svt/candle
X-WR-TIMEZONE:Europe/Bratislava
BEGIN:VEVENT
UID:lesson(707)-semester(022026-052026)-candle@candle.fmph.uniba.sk
DTSTAMP:20260424T231821Z
CATEGORIES:Cvičenie
DESCRIPTION:Cvičenie\n\nVyučujúci:\n - E. Foltánová\n
DTSTART;TZID=Europe/Bratislava:20260216T163000
DTEND;TZID=Europe/Bratislava:20260216T180000
LOCATION:M-I
RRULE:FREQ=WEEKLY;UNTIL=20260523T000000Z
SUMMARY:Anglický jazyk (4)
END:VEVENT
BEGIN:VEVENT
UID:lesson(708)-semester(022026-052026)-candle@candle.fmph.uniba.sk
DTSTAMP:20260424T231821Z
CATEGORIES:Cvičenie
DESCRIPTION:Cvičenie\n\nVyučujúci:\n - E. Foltánová\n
DTSTART;TZID=Europe/Bratislava:20260216T181000
DTEND;TZID=Europe/Bratislava:20260216T194000
LOCATION:M-I
RRULE:FREQ=WEEKLY;UNTIL=20260523T000000Z
SUMMARY:Anglický jazyk (4)
END:VEVENT
BEGIN:VEVENT
UID:lesson(728)-semester(022026-052026)-candle@candle.fmph.uniba.sk
DTSTAMP:20260424T231821Z
CATEGORIES:Cvičenie
DESCRIPTION:Cvičenie\n\nVyučujúci:\n - E. Foltánová\n
DTSTART;TZID=Europe/Bratislava:20260217T081000
DTEND;TZID=Europe/Bratislava:20260217T094000
LOCATION:M-II
RRULE:FREQ=WEEKLY;UNTIL=20260523T000000Z
SUMMARY:Anglický jazyk (4)
END:VEVENT
BEGIN:VEVENT
UID:lesson(729)-semester(022026-052026)-candle@candle.fmph.uniba.sk
DTSTAMP:20260424T231821Z
CATEGORIES:Cvičenie
DESCRIPTION:Cvičenie\n\nVyučujúci:\n - E. Foltánová\n
DTSTART;TZID=Europe/Bratislava:20260217T095000
DTEND;TZID=Europe/Bratislava:20260217T112000
LOCATION:M-II
RRULE:FREQ=WEEKLY;UNTIL=20260523T000000Z
SUMMARY:Anglický jazyk (4)
END:VEVENT
BEGIN:VEVENT
UID:lesson(737)-semester(022026-052026)-candle@candle.fmph.uniba.sk
DTSTAMP:20260424T231821Z
CATEGORIES:Cvičenie
DESCRIPTION:Cvičenie\n\nVyučujúci:\n - E. Foltánová\n
DTSTART;TZID=Europe/Bratislava:20260218T081000
DTEND;TZID=Europe/Bratislava:20260218T094000
LOCATION:M-VII
RRULE:FREQ=WEEKLY;UNTIL=20260523T000000Z
SUMMARY:Anglický jazyk (4)
END:VEVENT
BEGIN:VEVENT
UID:lesson(758)-semester(022026-052026)-candle@candle.fmph.uniba.sk
DTSTAMP:20260424T231821Z
CATEGORIES:Cvičenie
DESCRIPTION:Cvičenie\n\nVyučujúci:\n - E. Foltánová\n
DTSTART;TZID=Europe/Bratislava:20260220T081000
DTEND;TZID=Europe/Bratislava:20260220T094000
LOCATION:M-II
RRULE:FREQ=WEEKLY;UNTIL=20260523T000000Z
SUMMARY:Anglický jazyk (4)
END:VEVENT
BEGIN:VEVENT
UID:lesson(759)-semester(022026-052026)-candle@candle.fmph.uniba.sk
DTSTAMP:20260424T231821Z
CATEGORIES:Cvičenie
DESCRIPTION:Cvičenie\n\nVyučujúci:\n - E. Foltánová\n
DTSTART;TZID=Europe/Bratislava:20260220T095000
DTEND;TZID=Europe/Bratislava:20260220T112000
LOCATION:M-II
RRULE:FREQ=WEEKLY;UNTIL=20260523T000000Z
SUMMARY:Anglický jazyk (4)
END:VEVENT
END:VCALENDAR
