BEGIN:VCALENDAR
VERSION:2.0
PRODID:-//candle.fmph.uniba.sk//NONSGML kigkonsult.se iCalcreator 2.16.12//
METHOD:PUBLISH
X-WR-CALNAME:D. Guller
X-WR-CALDESC:Rozvrh hodín vyexportovaný pomocou Candle\, https://github.com
 /fmfi-svt/candle
X-WR-TIMEZONE:Europe/Bratislava
BEGIN:VEVENT
UID:lesson(843)-semester(022026-052026)-candle@candle.fmph.uniba.sk
DTSTAMP:20260425T135017Z
CATEGORIES:Cvičenie
DESCRIPTION:Cvičenie\n\nVyučujúci:\n - D. Guller\n
DTSTART;TZID=Europe/Bratislava:20260220T095000
DTEND;TZID=Europe/Bratislava:20260220T112000
LOCATION:M-X
RRULE:FREQ=WEEKLY;UNTIL=20260523T000000Z
SUMMARY:Diskrétna matematika (2)
END:VEVENT
BEGIN:VEVENT
UID:lesson(637)-semester(022026-052026)-candle@candle.fmph.uniba.sk
DTSTAMP:20260425T135017Z
CATEGORIES:Kurz
DESCRIPTION:Kurz\n\nVyučujúci:\n - D. Guller\n
DTSTART;TZID=Europe/Bratislava:20260220T113000
DTEND;TZID=Europe/Bratislava:20260220T143000
LOCATION:M-X
RRULE:FREQ=WEEKLY;UNTIL=20260523T000000Z
SUMMARY:Expertné systémy
END:VEVENT
END:VCALENDAR
