BEGIN:VCALENDAR
VERSION:2.0
PRODID:-//candle.fmph.uniba.sk//NONSGML kigkonsult.se iCalcreator 2.16.12//
METHOD:PUBLISH
X-WR-CALNAME:SAV
X-WR-CALDESC:Rozvrh hodín vyexportovaný pomocou Candle\, https://github.com
 /fmfi-svt/candle
X-WR-TIMEZONE:Europe/Bratislava
BEGIN:VEVENT
UID:lesson(1163)-semester(022026-052026)-candle@candle.fmph.uniba.sk
DTSTAMP:20260424T193043Z
CATEGORIES:Prednáška
DESCRIPTION:Prednáška\n\nPoznámka: Dúbravská cesta 9\, blok B\, 6. poschodi
 e\n\nVyučujúci:\n - B. Konečná\n - R. Gardlík\n
DTSTART;TZID=Europe/Bratislava:20260219T131000
DTEND;TZID=Europe/Bratislava:20260219T144000
LOCATION:SAV
RRULE:FREQ=WEEKLY;UNTIL=20260523T000000Z
SUMMARY:Laboratórne metódy v biomedicíne
END:VEVENT
BEGIN:VEVENT
UID:lesson(906)-semester(022026-052026)-candle@candle.fmph.uniba.sk
DTSTAMP:20260424T193043Z
CATEGORIES:Labák
DESCRIPTION:Labák\n\nVyučujúci:\n - J. Greguš\n
DTSTART;TZID=Europe/Bratislava:20260219T140000
DTEND;TZID=Europe/Bratislava:20260219T170000
LOCATION:SAV
RRULE:FREQ=WEEKLY;UNTIL=20260523T000000Z
SUMMARY:Praktikum z fyziky tuhých látok
END:VEVENT
END:VCALENDAR
