BEGIN:VCALENDAR
VERSION:2.0
PRODID:-//candle.fmph.uniba.sk//NONSGML kigkonsult.se iCalcreator 2.16.12//
METHOD:PUBLISH
X-WR-CALNAME:M-VI
X-WR-CALDESC:Rozvrh hodín vyexportovaný pomocou Candle\, https://github.com
 /fmfi-svt/candle
X-WR-TIMEZONE:Europe/Bratislava
BEGIN:VEVENT
UID:lesson(956)-semester(022026-052026)-candle@candle.fmph.uniba.sk
DTSTAMP:20260424T175332Z
CATEGORIES:Kurz
DESCRIPTION:Kurz\n\nVyučujúci:\n - A. Šimko\n
DTSTART;TZID=Europe/Bratislava:20260216T095000
DTEND;TZID=Europe/Bratislava:20260216T112000
LOCATION:M-VI
RRULE:FREQ=WEEKLY;UNTIL=20260523T000000Z
SUMMARY:Game Engines (2)
END:VEVENT
BEGIN:VEVENT
UID:lesson(16)-semester(022026-052026)-candle@candle.fmph.uniba.sk
DTSTAMP:20260424T175332Z
CATEGORIES:Prednáška
DESCRIPTION:Prednáška\n\nVyučujúci:\n - T. Rusin\n
DTSTART;TZID=Europe/Bratislava:20260216T113000
DTEND;TZID=Europe/Bratislava:20260216T130000
LOCATION:M-VI
RRULE:FREQ=WEEKLY;UNTIL=20260523T000000Z
SUMMARY:Algebra a teoretická aritmetika (1)
END:VEVENT
BEGIN:VEVENT
UID:lesson(719)-semester(022026-052026)-candle@candle.fmph.uniba.sk
DTSTAMP:20260424T175332Z
CATEGORIES:Cvičenie
DESCRIPTION:Cvičenie\n\nVyučujúci:\n - V. Medárová\n
DTSTART;TZID=Europe/Bratislava:20260216T163000
DTEND;TZID=Europe/Bratislava:20260216T180000
LOCATION:M-VI
RRULE:FREQ=WEEKLY;UNTIL=20260523T000000Z
SUMMARY:Anglický jazyk (2)
END:VEVENT
BEGIN:VEVENT
UID:lesson(720)-semester(022026-052026)-candle@candle.fmph.uniba.sk
DTSTAMP:20260424T175332Z
CATEGORIES:Cvičenie
DESCRIPTION:Cvičenie\n\nVyučujúci:\n - V. Medárová\n
DTSTART;TZID=Europe/Bratislava:20260216T181000
DTEND;TZID=Europe/Bratislava:20260216T194000
LOCATION:M-VI
RRULE:FREQ=WEEKLY;UNTIL=20260523T000000Z
SUMMARY:Anglický jazyk (2)
END:VEVENT
BEGIN:VEVENT
UID:lesson(508)-semester(022026-052026)-candle@candle.fmph.uniba.sk
DTSTAMP:20260424T175332Z
CATEGORIES:Prednáška
DESCRIPTION:Prednáška\n\nVyučujúci:\n - T. Jajcayová\n
DTSTART;TZID=Europe/Bratislava:20260217T095000
DTEND;TZID=Europe/Bratislava:20260217T112000
LOCATION:M-VI
RRULE:FREQ=WEEKLY;UNTIL=20260523T000000Z
SUMMARY:Diskrétne štruktúry v informatike a počítačovej grafike
END:VEVENT
BEGIN:VEVENT
UID:lesson(297)-semester(022026-052026)-candle@candle.fmph.uniba.sk
DTSTAMP:20260424T175332Z
CATEGORIES:Prednáška
DESCRIPTION:Prednáška\n\nVyučujúci:\n - J. Guričan\n
DTSTART;TZID=Europe/Bratislava:20260217T113000
DTEND;TZID=Europe/Bratislava:20260217T130000
LOCATION:M-VI
RRULE:FREQ=WEEKLY;UNTIL=20260523T000000Z
SUMMARY:Algebra (3)
END:VEVENT
BEGIN:VEVENT
UID:lesson(850)-semester(022026-052026)-candle@candle.fmph.uniba.sk
DTSTAMP:20260424T175332Z
CATEGORIES:Cvičenie
DESCRIPTION:Cvičenie\n\nVyučujúci:\n - J. Hrdina\n
DTSTART;TZID=Europe/Bratislava:20260217T131000
DTEND;TZID=Europe/Bratislava:20260217T144000
LOCATION:M-VI
RRULE:FREQ=WEEKLY;UNTIL=20260523T000000Z
SUMMARY:Lineárna algebra a geometria (2)
END:VEVENT
BEGIN:VEVENT
UID:lesson(792)-semester(022026-052026)-candle@candle.fmph.uniba.sk
DTSTAMP:20260424T175332Z
CATEGORIES:Prednáška
DESCRIPTION:Prednáška\n\nVyučujúci:\n - P. Zlatoš\n
DTSTART;TZID=Europe/Bratislava:20260217T145000
DTEND;TZID=Europe/Bratislava:20260217T162000
LOCATION:M-VI
RRULE:FREQ=WEEKLY;UNTIL=20260523T000000Z
SUMMARY:Matematická logika (2)
END:VEVENT
BEGIN:VEVENT
UID:lesson(306)-semester(022026-052026)-candle@candle.fmph.uniba.sk
DTSTAMP:20260424T175332Z
CATEGORIES:Prednáška
DESCRIPTION:Prednáška\n\nVyučujúci:\n - R. Jajcay\n
DTSTART;TZID=Europe/Bratislava:20260217T163000
DTEND;TZID=Europe/Bratislava:20260217T180000
LOCATION:M-VI
RRULE:FREQ=WEEKLY;UNTIL=20260523T000000Z
SUMMARY:Úvod do kódovania
END:VEVENT
BEGIN:VEVENT
UID:lesson(526)-semester(022026-052026)-candle@candle.fmph.uniba.sk
DTSTAMP:20260424T175332Z
CATEGORIES:Seminár
DESCRIPTION:Seminár\n\nVyučujúci:\n - R. Harman\n
DTSTART;TZID=Europe/Bratislava:20260218T090000
DTEND;TZID=Europe/Bratislava:20260218T111500
LOCATION:M-VI
RRULE:FREQ=WEEKLY;UNTIL=20260523T000000Z
SUMMARY:Diplomový seminár (2)
END:VEVENT
BEGIN:VEVENT
UID:lesson(573)-semester(022026-052026)-candle@candle.fmph.uniba.sk
DTSTAMP:20260424T175332Z
CATEGORIES:Cvičenie
DESCRIPTION:Cvičenie\n\nVyučujúci:\n - M. Pospíšil\n
DTSTART;TZID=Europe/Bratislava:20260218T122000
DTEND;TZID=Europe/Bratislava:20260218T135000
LOCATION:M-VI
RRULE:FREQ=WEEKLY;UNTIL=20260523T000000Z
SUMMARY:Matematika (4)
END:VEVENT
BEGIN:VEVENT
UID:lesson(500)-semester(022026-052026)-candle@candle.fmph.uniba.sk
DTSTAMP:20260424T175332Z
CATEGORIES:Prednáška
DESCRIPTION:Prednáška\n\nVyučujúci:\n - P. Neilinger\n
DTSTART;TZID=Europe/Bratislava:20260218T140000
DTEND;TZID=Europe/Bratislava:20260218T153000
LOCATION:M-VI
RRULE:FREQ=WEEKLY;UNTIL=20260523T000000Z
SUMMARY:Úvod do modernej fyziky
END:VEVENT
BEGIN:VEVENT
UID:lesson(499)-semester(022026-052026)-candle@candle.fmph.uniba.sk
DTSTAMP:20260424T175332Z
CATEGORIES:Prednáška
DESCRIPTION:Prednáška\n\nVyučujúci:\n - P. Neilinger\n
DTSTART;TZID=Europe/Bratislava:20260218T140000
DTEND;TZID=Europe/Bratislava:20260218T153000
LOCATION:M-VI
RRULE:FREQ=WEEKLY;UNTIL=20260523T000000Z
SUMMARY:Moderná fyzika
END:VEVENT
BEGIN:VEVENT
UID:lesson(883)-semester(022026-052026)-candle@candle.fmph.uniba.sk
DTSTAMP:20260424T175332Z
CATEGORIES:Cvičenie
DESCRIPTION:Cvičenie\n\nVyučujúci:\n - Ľ. Balko\n
DTSTART;TZID=Europe/Bratislava:20260218T154000
DTEND;TZID=Europe/Bratislava:20260218T175500
LOCATION:M-VI
RRULE:FREQ=WEEKLY;UNTIL=20260523T000000Z
SUMMARY:Matematická analýza
END:VEVENT
BEGIN:VEVENT
UID:lesson(463)-semester(022026-052026)-candle@candle.fmph.uniba.sk
DTSTAMP:20260424T175332Z
CATEGORIES:Kurz
DESCRIPTION:Kurz\n\nVyučujúci:\n - J. Babušíková\n
DTSTART;TZID=Europe/Bratislava:20260219T090000
DTEND;TZID=Europe/Bratislava:20260219T103000
LOCATION:M-VI
RRULE:FREQ=WEEKLY;UNTIL=20260523T000000Z
SUMMARY:Numerické metódy
END:VEVENT
BEGIN:VEVENT
UID:lesson(466)-semester(022026-052026)-candle@candle.fmph.uniba.sk
DTSTAMP:20260424T175332Z
CATEGORIES:Prednáška
DESCRIPTION:Prednáška\n\nVyučujúci:\n - J. Jaroš\n
DTSTART;TZID=Europe/Bratislava:20260219T104000
DTEND;TZID=Europe/Bratislava:20260219T125500
LOCATION:M-VI
RRULE:FREQ=WEEKLY;UNTIL=20260523T000000Z
SUMMARY:Parciálne diferenciálne rovnice
END:VEVENT
BEGIN:VEVENT
UID:lesson(464)-semester(022026-052026)-candle@candle.fmph.uniba.sk
DTSTAMP:20260424T175332Z
CATEGORIES:Seminár
DESCRIPTION:Seminár\n\nVyučujúci:\n - D. Majerčáková\n
DTSTART;TZID=Europe/Bratislava:20260219T131000
DTEND;TZID=Europe/Bratislava:20260219T144000
LOCATION:M-VI
RRULE:FREQ=WEEKLY;UNTIL=20260523T000000Z
SUMMARY:Diplomový seminár (2)
END:VEVENT
BEGIN:VEVENT
UID:lesson(856)-semester(022026-052026)-candle@candle.fmph.uniba.sk
DTSTAMP:20260424T175332Z
CATEGORIES:Cvičenie
DESCRIPTION:Cvičenie\n\nVyučujúci:\n - E. Mačajová\n
DTSTART;TZID=Europe/Bratislava:20260220T095000
DTEND;TZID=Europe/Bratislava:20260220T112000
LOCATION:M-VI
RRULE:FREQ=WEEKLY;UNTIL=20260523T000000Z
SUMMARY:Úvod do kombinatoriky a teórie grafov
END:VEVENT
BEGIN:VEVENT
UID:lesson(857)-semester(022026-052026)-candle@candle.fmph.uniba.sk
DTSTAMP:20260424T175332Z
CATEGORIES:Cvičenie
DESCRIPTION:Cvičenie\n\nVyučujúci:\n - E. Mačajová\n
DTSTART;TZID=Europe/Bratislava:20260220T113000
DTEND;TZID=Europe/Bratislava:20260220T130000
LOCATION:M-VI
RRULE:FREQ=WEEKLY;UNTIL=20260523T000000Z
SUMMARY:Úvod do kombinatoriky a teórie grafov
END:VEVENT
BEGIN:VEVENT
UID:lesson(457)-semester(022026-052026)-candle@candle.fmph.uniba.sk
DTSTAMP:20260424T175332Z
CATEGORIES:Seminár
DESCRIPTION:Seminár\n\nVyučujúci:\n - T. Macko\n
DTSTART;TZID=Europe/Bratislava:20260220T131000
DTEND;TZID=Europe/Bratislava:20260220T144000
LOCATION:M-VI
RRULE:FREQ=WEEKLY;UNTIL=20260523T000000Z
SUMMARY:Seminár z algebraickej a diferenciálnej topológie (2)
END:VEVENT
BEGIN:VEVENT
UID:lesson(458)-semester(022026-052026)-candle@candle.fmph.uniba.sk
DTSTAMP:20260424T175332Z
CATEGORIES:Prednáška
DESCRIPTION:Prednáška\n\nVyučujúci:\n - T. Macko\n
DTSTART;TZID=Europe/Bratislava:20260220T131000
DTEND;TZID=Europe/Bratislava:20260220T144000
LOCATION:M-VI
RRULE:FREQ=WEEKLY;UNTIL=20260523T000000Z
SUMMARY:Diferenciálna topológia
END:VEVENT
END:VCALENDAR
