BEGIN:VCALENDAR
VERSION:2.0
PRODID:-//candle.fmph.uniba.sk//NONSGML kigkonsult.se iCalcreator 2.16.12//
METHOD:PUBLISH
X-WR-CALNAME:M-V
X-WR-CALDESC:Rozvrh hodín vyexportovaný pomocou Candle\, https://github.com
 /fmfi-svt/candle
X-WR-TIMEZONE:Europe/Bratislava
BEGIN:VEVENT
UID:lesson(366)-semester(022026-052026)-candle@candle.fmph.uniba.sk
DTSTAMP:20260424T193143Z
CATEGORIES:Kurz
DESCRIPTION:Kurz\n\nVyučujúci:\n - I. Prívara\n
DTSTART;TZID=Europe/Bratislava:20260216T090000
DTEND;TZID=Europe/Bratislava:20260216T120000
LOCATION:M-V
RRULE:FREQ=WEEKLY;UNTIL=20260523T000000Z
SUMMARY:Úvod do teórie programovania
END:VEVENT
BEGIN:VEVENT
UID:lesson(717)-semester(022026-052026)-candle@candle.fmph.uniba.sk
DTSTAMP:20260424T193143Z
CATEGORIES:Cvičenie
DESCRIPTION:Cvičenie\n\nVyučujúci:\n - A. Maďarová\n
DTSTART;TZID=Europe/Bratislava:20260216T163000
DTEND;TZID=Europe/Bratislava:20260216T180000
LOCATION:M-V
RRULE:FREQ=WEEKLY;UNTIL=20260523T000000Z
SUMMARY:Anglický jazyk (4)
END:VEVENT
BEGIN:VEVENT
UID:lesson(718)-semester(022026-052026)-candle@candle.fmph.uniba.sk
DTSTAMP:20260424T193143Z
CATEGORIES:Cvičenie
DESCRIPTION:Cvičenie\n\nVyučujúci:\n - A. Maďarová\n
DTSTART;TZID=Europe/Bratislava:20260216T181000
DTEND;TZID=Europe/Bratislava:20260216T194000
LOCATION:M-V
RRULE:FREQ=WEEKLY;UNTIL=20260523T000000Z
SUMMARY:Anglický jazyk (4)
END:VEVENT
BEGIN:VEVENT
UID:lesson(325)-semester(022026-052026)-candle@candle.fmph.uniba.sk
DTSTAMP:20260424T193143Z
CATEGORIES:Prednáška
DESCRIPTION:Prednáška\n\nVyučujúci:\n - P. Bokes\n
DTSTART;TZID=Europe/Bratislava:20260217T095000
DTEND;TZID=Europe/Bratislava:20260217T112000
LOCATION:M-V
RRULE:FREQ=WEEKLY;UNTIL=20260523T000000Z
SUMMARY:Teória pravdepodobnosti
END:VEVENT
BEGIN:VEVENT
UID:lesson(770)-semester(022026-052026)-candle@candle.fmph.uniba.sk
DTSTAMP:20260424T193143Z
CATEGORIES:Cvičenie
DESCRIPTION:Cvičenie\n\nVyučujúci:\n - H. Šmitala Mizerová\n
DTSTART;TZID=Europe/Bratislava:20260217T113000
DTEND;TZID=Europe/Bratislava:20260217T130000
LOCATION:M-V
RRULE:FREQ=WEEKLY;UNTIL=20260523T000000Z
SUMMARY:Matematická analýza (2)
END:VEVENT
BEGIN:VEVENT
UID:lesson(524)-semester(022026-052026)-candle@candle.fmph.uniba.sk
DTSTAMP:20260424T193143Z
CATEGORIES:Prednáška
DESCRIPTION:Prednáška\n\nVyučujúci:\n - L. Filová\n
DTSTART;TZID=Europe/Bratislava:20260217T140000
DTEND;TZID=Europe/Bratislava:20260217T153000
LOCATION:M-V
RRULE:FREQ=WEEKLY;UNTIL=20260523T000000Z
SUMMARY:Bioštatistika
END:VEVENT
BEGIN:VEVENT
UID:lesson(413)-semester(022026-052026)-candle@candle.fmph.uniba.sk
DTSTAMP:20260424T193143Z
CATEGORIES:Cvičenie
DESCRIPTION:Cvičenie\n\nVyučujúci:\n - M. Demetrian\n
DTSTART;TZID=Europe/Bratislava:20260218T081000
DTEND;TZID=Europe/Bratislava:20260218T094000
LOCATION:M-V
RRULE:FREQ=WEEKLY;UNTIL=20260523T000000Z
SUMMARY:Nelineárna optimalizácia
END:VEVENT
BEGIN:VEVENT
UID:lesson(326)-semester(022026-052026)-candle@candle.fmph.uniba.sk
DTSTAMP:20260424T193143Z
CATEGORIES:Prednáška
DESCRIPTION:Prednáška\n\nVyučujúci:\n - P. Bokes\n
DTSTART;TZID=Europe/Bratislava:20260218T095000
DTEND;TZID=Europe/Bratislava:20260218T112000
LOCATION:M-V
RRULE:FREQ=WEEKLY;UNTIL=20260523T000000Z
SUMMARY:Diferenčné a diferenciálne rovnice
END:VEVENT
BEGIN:VEVENT
UID:lesson(451)-semester(022026-052026)-candle@candle.fmph.uniba.sk
DTSTAMP:20260424T193143Z
CATEGORIES:Prednáška
DESCRIPTION:Prednáška\n\nVyučujúci:\n - M. Makovník\n
DTSTART;TZID=Europe/Bratislava:20260218T113000
DTEND;TZID=Europe/Bratislava:20260218T130000
LOCATION:M-V
RRULE:FREQ=WEEKLY;UNTIL=20260523T000000Z
SUMMARY:Úvod do počítačovej grafiky
END:VEVENT
BEGIN:VEVENT
UID:lesson(974)-semester(022026-052026)-candle@candle.fmph.uniba.sk
DTSTAMP:20260424T193143Z
CATEGORIES:Prednáška
DESCRIPTION:Prednáška\n\nVyučujúci:\n - M. Makovník\n
DTSTART;TZID=Europe/Bratislava:20260218T113000
DTEND;TZID=Europe/Bratislava:20260218T130000
LOCATION:M-V
RRULE:FREQ=WEEKLY;UNTIL=20260523T000000Z
SUMMARY:Počítačová grafika (2)
END:VEVENT
BEGIN:VEVENT
UID:lesson(769)-semester(022026-052026)-candle@candle.fmph.uniba.sk
DTSTAMP:20260424T193143Z
CATEGORIES:Cvičenie
DESCRIPTION:Cvičenie\n\nVyučujúci:\n - H. Šmitala Mizerová\n
DTSTART;TZID=Europe/Bratislava:20260218T140000
DTEND;TZID=Europe/Bratislava:20260218T153000
LOCATION:M-V
RRULE:FREQ=WEEKLY;UNTIL=20260523T000000Z
SUMMARY:Cvičenie z matematickej analýzy (2)
END:VEVENT
BEGIN:VEVENT
UID:lesson(771)-semester(022026-052026)-candle@candle.fmph.uniba.sk
DTSTAMP:20260424T193143Z
CATEGORIES:Prednáška
DESCRIPTION:Prednáška\n\nVyučujúci:\n - J. Tekel\n
DTSTART;TZID=Europe/Bratislava:20260218T154000
DTEND;TZID=Europe/Bratislava:20260218T171000
LOCATION:M-V
RRULE:FREQ=WEEKLY;UNTIL=20260523T000000Z
SUMMARY:Základy fyziky (2)
END:VEVENT
BEGIN:VEVENT
UID:lesson(772)-semester(022026-052026)-candle@candle.fmph.uniba.sk
DTSTAMP:20260424T193143Z
CATEGORIES:Cvičenie
DESCRIPTION:Cvičenie\n\nVyučujúci:\n - J. Tekel\n
DTSTART;TZID=Europe/Bratislava:20260218T172000
DTEND;TZID=Europe/Bratislava:20260218T180500
LOCATION:M-V
RRULE:FREQ=WEEKLY;UNTIL=20260523T000000Z
SUMMARY:Základy fyziky (2)
END:VEVENT
BEGIN:VEVENT
UID:lesson(702)-semester(022026-052026)-candle@candle.fmph.uniba.sk
DTSTAMP:20260424T193143Z
CATEGORIES:Výber/Vol
DESCRIPTION:Výber/Vol\n\nVyučujúci:\n - J. Pačuta\n
DTSTART;TZID=Europe/Bratislava:20260219T081000
DTEND;TZID=Europe/Bratislava:20260219T094000
LOCATION:M-V
RRULE:FREQ=WEEKLY;UNTIL=20260523T000000Z
SUMMARY:Cvičenie z matematickej analýzy (4)
END:VEVENT
BEGIN:VEVENT
UID:lesson(468)-semester(022026-052026)-candle@candle.fmph.uniba.sk
DTSTAMP:20260424T193143Z
CATEGORIES:Prednáška
DESCRIPTION:Prednáška\n\nVyučujúci:\n - M. Pospíšil\n
DTSTART;TZID=Europe/Bratislava:20260219T095000
DTEND;TZID=Europe/Bratislava:20260219T112000
LOCATION:M-V
RRULE:FREQ=WEEKLY;UNTIL=20260523T000000Z
SUMMARY:Matematická analýza (4)
END:VEVENT
BEGIN:VEVENT
UID:lesson(380)-semester(022026-052026)-candle@candle.fmph.uniba.sk
DTSTAMP:20260424T193143Z
CATEGORIES:Prednáška
DESCRIPTION:Prednáška\n\nVyučujúci:\n - P. Bokes\n
DTSTART;TZID=Europe/Bratislava:20260219T113000
DTEND;TZID=Europe/Bratislava:20260219T130000
LOCATION:M-V
RRULE:FREQ=WEEKLY;UNTIL=20260523T000000Z
SUMMARY:Stochastické metódy operačnej analýzy
END:VEVENT
BEGIN:VEVENT
UID:lesson(13)-semester(022026-052026)-candle@candle.fmph.uniba.sk
DTSTAMP:20260424T193143Z
CATEGORIES:Seminár
DESCRIPTION:Seminár\n\nVyučujúci:\n - Z. Kubáček\n
DTSTART;TZID=Europe/Bratislava:20260219T140000
DTEND;TZID=Europe/Bratislava:20260219T161500
LOCATION:M-V
RRULE:FREQ=WEEKLY;UNTIL=20260523T000000Z
SUMMARY:Seminár z dejín matematiky (2)
END:VEVENT
BEGIN:VEVENT
UID:lesson(34)-semester(022026-052026)-candle@candle.fmph.uniba.sk
DTSTAMP:20260424T193143Z
CATEGORIES:Seminár
DESCRIPTION:Seminár\n\nVyučujúci:\n - E. Miťková\n
DTSTART;TZID=Europe/Bratislava:20260219T163000
DTEND;TZID=Europe/Bratislava:20260219T180000
LOCATION:M-V
RRULE:FREQ=WEEKLY;UNTIL=20260523T000000Z
SUMMARY:Matematické súťaže a semináre (2)
END:VEVENT
BEGIN:VEVENT
UID:lesson(876)-semester(022026-052026)-candle@candle.fmph.uniba.sk
DTSTAMP:20260424T193143Z
CATEGORIES:Prednáška
DESCRIPTION:Prednáška\n\nVyučujúci:\n - M. Šuppa\n
DTSTART;TZID=Europe/Bratislava:20260220T081000
DTEND;TZID=Europe/Bratislava:20260220T094000
LOCATION:M-V
RRULE:FREQ=WEEKLY;UNTIL=20260523T000000Z
SUMMARY:Spracovanie prirodzeného jazyka
END:VEVENT
BEGIN:VEVENT
UID:lesson(957)-semester(022026-052026)-candle@candle.fmph.uniba.sk
DTSTAMP:20260424T193143Z
CATEGORIES:Kurz
DESCRIPTION:Kurz\n\nVyučujúci:\n - A. Šimko\n
DTSTART;TZID=Europe/Bratislava:20260220T095000
DTEND;TZID=Europe/Bratislava:20260220T112000
LOCATION:M-V
RRULE:FREQ=WEEKLY;UNTIL=20260523T000000Z
SUMMARY:Game Engines (2)
END:VEVENT
BEGIN:VEVENT
UID:lesson(838)-semester(022026-052026)-candle@candle.fmph.uniba.sk
DTSTAMP:20260424T193143Z
CATEGORIES:Cvičenie
DESCRIPTION:Cvičenie\n\nPoznámka: 1. skupina\n\nVyučujúci:\n - M. Kollár\n
DTSTART;TZID=Europe/Bratislava:20260220T113000
DTEND;TZID=Europe/Bratislava:20260220T130000
LOCATION:M-V
RRULE:FREQ=WEEKLY;UNTIL=20260523T000000Z
SUMMARY:Cvičenie z matematickej analýzy (4)
END:VEVENT
END:VCALENDAR
