BEGIN:VCALENDAR
VERSION:2.0
PRODID:-//candle.fmph.uniba.sk//NONSGML kigkonsult.se iCalcreator 2.16.12//
METHOD:PUBLISH
X-WR-CALNAME:M-IV
X-WR-CALDESC:Rozvrh hodín vyexportovaný pomocou Candle\, https://github.com
 /fmfi-svt/candle
X-WR-TIMEZONE:Europe/Bratislava
BEGIN:VEVENT
UID:lesson(812)-semester(022026-052026)-candle@candle.fmph.uniba.sk
DTSTAMP:20260425T135016Z
CATEGORIES:Kurz
DESCRIPTION:Kurz\n\nVyučujúci:\n - M. Gera\n
DTSTART;TZID=Europe/Bratislava:20260216T081000
DTEND;TZID=Europe/Bratislava:20260216T094000
LOCATION:M-IV
RRULE:FREQ=WEEKLY;UNTIL=20260523T000000Z
SUMMARY:Základy meteorológie a klimatológie
END:VEVENT
BEGIN:VEVENT
UID:lesson(374)-semester(022026-052026)-candle@candle.fmph.uniba.sk
DTSTAMP:20260425T135016Z
CATEGORIES:Cvičenie
DESCRIPTION:Cvičenie\n\nVyučujúci:\n - J. Kostičová\n
DTSTART;TZID=Europe/Bratislava:20260216T095000
DTEND;TZID=Europe/Bratislava:20260216T112000
LOCATION:M-IV
RRULE:FREQ=WEEKLY;UNTIL=20260523T000000Z
SUMMARY:Tvorba internetových aplikácií
END:VEVENT
BEGIN:VEVENT
UID:lesson(535)-semester(022026-052026)-candle@candle.fmph.uniba.sk
DTSTAMP:20260425T135016Z
CATEGORIES:Cvičenie
DESCRIPTION:Cvičenie\n\nVyučujúci:\n - J. Havlíčková\n
DTSTART;TZID=Europe/Bratislava:20260216T113000
DTEND;TZID=Europe/Bratislava:20260216T130000
LOCATION:M-IV
RRULE:FREQ=WEEKLY;UNTIL=20260523T000000Z
SUMMARY:Matematická analýza (2)
END:VEVENT
BEGIN:VEVENT
UID:lesson(715)-semester(022026-052026)-candle@candle.fmph.uniba.sk
DTSTAMP:20260425T135016Z
CATEGORIES:Cvičenie
DESCRIPTION:Cvičenie\n\nVyučujúci:\n - K. Hromadová\n
DTSTART;TZID=Europe/Bratislava:20260216T163000
DTEND;TZID=Europe/Bratislava:20260216T180000
LOCATION:M-IV
RRULE:FREQ=WEEKLY;UNTIL=20260523T000000Z
SUMMARY:Anglický jazyk (4)
END:VEVENT
BEGIN:VEVENT
UID:lesson(716)-semester(022026-052026)-candle@candle.fmph.uniba.sk
DTSTAMP:20260425T135016Z
CATEGORIES:Cvičenie
DESCRIPTION:Cvičenie\n\nVyučujúci:\n - K. Hromadová\n
DTSTART;TZID=Europe/Bratislava:20260216T181000
DTEND;TZID=Europe/Bratislava:20260216T194000
LOCATION:M-IV
RRULE:FREQ=WEEKLY;UNTIL=20260523T000000Z
SUMMARY:Anglický jazyk (4)
END:VEVENT
BEGIN:VEVENT
UID:lesson(494)-semester(022026-052026)-candle@candle.fmph.uniba.sk
DTSTAMP:20260425T135016Z
CATEGORIES:Cvičenie
DESCRIPTION:Cvičenie\n\nVyučujúci:\n - F. Jaroš\n
DTSTART;TZID=Europe/Bratislava:20260217T095000
DTEND;TZID=Europe/Bratislava:20260217T112000
LOCATION:M-IV
RRULE:FREQ=WEEKLY;UNTIL=20260523T000000Z
SUMMARY:Parciálne diferenciálne rovnice
END:VEVENT
BEGIN:VEVENT
UID:lesson(517)-semester(022026-052026)-candle@candle.fmph.uniba.sk
DTSTAMP:20260425T135016Z
CATEGORIES:Prednáška
DESCRIPTION:Prednáška\n\nVyučujúci:\n - K. Janková\n
DTSTART;TZID=Europe/Bratislava:20260217T113000
DTEND;TZID=Europe/Bratislava:20260217T130000
LOCATION:M-IV
RRULE:FREQ=WEEKLY;UNTIL=20260523T000000Z
SUMMARY:Markovovské modely (2)
END:VEVENT
BEGIN:VEVENT
UID:lesson(63)-semester(022026-052026)-candle@candle.fmph.uniba.sk
DTSTAMP:20260425T135016Z
CATEGORIES:Kurz
DESCRIPTION:Kurz\n\nVyučujúci:\n - M. Niepel\n
DTSTART;TZID=Europe/Bratislava:20260217T140000
DTEND;TZID=Europe/Bratislava:20260217T161500
LOCATION:M-IV
RRULE:FREQ=WEEKLY;UNTIL=20260523T000000Z
SUMMARY:Vybrané partie z algebry a teoretickej aritmetiky (2)
END:VEVENT
BEGIN:VEVENT
UID:lesson(347)-semester(022026-052026)-candle@candle.fmph.uniba.sk
DTSTAMP:20260425T135016Z
CATEGORIES:Cvičenie
DESCRIPTION:Cvičenie\n\nVyučujúci:\n - F. Jaroš\n
DTSTART;TZID=Europe/Bratislava:20260217T163000
DTEND;TZID=Europe/Bratislava:20260217T180000
LOCATION:M-IV
RRULE:FREQ=WEEKLY;UNTIL=20260523T000000Z
SUMMARY:Obyčajné diferenciálne rovnice
END:VEVENT
BEGIN:VEVENT
UID:lesson(27)-semester(022026-052026)-candle@candle.fmph.uniba.sk
DTSTAMP:20260425T135016Z
CATEGORIES:Prednáška
DESCRIPTION:Prednáška\n\nVyučujúci:\n - D. Bezáková\n
DTSTART;TZID=Europe/Bratislava:20260218T081000
DTEND;TZID=Europe/Bratislava:20260218T094000
LOCATION:M-IV
RRULE:FREQ=WEEKLY;UNTIL=20260523T000000Z
SUMMARY:Matematika pre učiteľov informatiky (1)
END:VEVENT
BEGIN:VEVENT
UID:lesson(28)-semester(022026-052026)-candle@candle.fmph.uniba.sk
DTSTAMP:20260425T135016Z
CATEGORIES:Cvičenie
DESCRIPTION:Cvičenie\n\nVyučujúci:\n - D. Bezáková\n
DTSTART;TZID=Europe/Bratislava:20260218T095000
DTEND;TZID=Europe/Bratislava:20260218T112000
LOCATION:M-IV
RRULE:FREQ=WEEKLY;UNTIL=20260523T000000Z
SUMMARY:Matematika pre učiteľov informatiky (1)
END:VEVENT
BEGIN:VEVENT
UID:lesson(437)-semester(022026-052026)-candle@candle.fmph.uniba.sk
DTSTAMP:20260425T135016Z
CATEGORIES:Prednáška
DESCRIPTION:Prednáška\n\nVyučujúci:\n - M. Halická\n - J. Szolgayová\n
DTSTART;TZID=Europe/Bratislava:20260218T113000
DTEND;TZID=Europe/Bratislava:20260218T130000
LOCATION:M-IV
RRULE:FREQ=WEEKLY;UNTIL=20260523T000000Z
SUMMARY:Optimálne riadenie (2)
END:VEVENT
BEGIN:VEVENT
UID:lesson(501)-semester(022026-052026)-candle@candle.fmph.uniba.sk
DTSTAMP:20260425T135016Z
CATEGORIES:Výber/Vol
DESCRIPTION:Výber/Vol\n\nVyučujúci:\n - F. Jaroš\n
DTSTART;TZID=Europe/Bratislava:20260218T140000
DTEND;TZID=Europe/Bratislava:20260218T153000
LOCATION:M-IV
RRULE:FREQ=WEEKLY;UNTIL=20260523T000000Z
SUMMARY:Doplnkové cvičenie z matematickej analýzy (4)
END:VEVENT
BEGIN:VEVENT
UID:lesson(701)-semester(022026-052026)-candle@candle.fmph.uniba.sk
DTSTAMP:20260425T135016Z
CATEGORIES:Cvičenie
DESCRIPTION:Cvičenie\n\nVyučujúci:\n - F. Jaroš\n
DTSTART;TZID=Europe/Bratislava:20260218T154000
DTEND;TZID=Europe/Bratislava:20260218T171000
LOCATION:M-IV
RRULE:FREQ=WEEKLY;UNTIL=20260523T000000Z
SUMMARY:Matematická analýza (4)
END:VEVENT
BEGIN:VEVENT
UID:lesson(342)-semester(022026-052026)-candle@candle.fmph.uniba.sk
DTSTAMP:20260425T135016Z
CATEGORIES:Cvičenie
DESCRIPTION:Cvičenie\n\nVyučujúci:\n - M. Horňáčková\n
DTSTART;TZID=Europe/Bratislava:20260219T090000
DTEND;TZID=Europe/Bratislava:20260219T094500
LOCATION:M-IV
RRULE:FREQ=WEEKLY;UNTIL=20260523T000000Z
SUMMARY:Optika
END:VEVENT
BEGIN:VEVENT
UID:lesson(343)-semester(022026-052026)-candle@candle.fmph.uniba.sk
DTSTAMP:20260425T135016Z
CATEGORIES:Cvičenie
DESCRIPTION:Cvičenie\n\nVyučujúci:\n - M. Horňáčková\n
DTSTART;TZID=Europe/Bratislava:20260219T095000
DTEND;TZID=Europe/Bratislava:20260219T103500
LOCATION:M-IV
RRULE:FREQ=WEEKLY;UNTIL=20260523T000000Z
SUMMARY:Optika
END:VEVENT
BEGIN:VEVENT
UID:lesson(335)-semester(022026-052026)-candle@candle.fmph.uniba.sk
DTSTAMP:20260425T135016Z
CATEGORIES:Prednáška
DESCRIPTION:Prednáška\n\nVyučujúci:\n - P. Neilinger\n
DTSTART;TZID=Europe/Bratislava:20260219T104000
DTEND;TZID=Europe/Bratislava:20260219T121000
LOCATION:M-IV
RRULE:FREQ=WEEKLY;UNTIL=20260523T000000Z
SUMMARY:Úvod do modernej fyziky
END:VEVENT
BEGIN:VEVENT
UID:lesson(334)-semester(022026-052026)-candle@candle.fmph.uniba.sk
DTSTAMP:20260425T135016Z
CATEGORIES:Prednáška
DESCRIPTION:Prednáška\n\nVyučujúci:\n - P. Neilinger\n
DTSTART;TZID=Europe/Bratislava:20260219T104000
DTEND;TZID=Europe/Bratislava:20260219T121000
LOCATION:M-IV
RRULE:FREQ=WEEKLY;UNTIL=20260523T000000Z
SUMMARY:Moderná fyzika
END:VEVENT
BEGIN:VEVENT
UID:lesson(474)-semester(022026-052026)-candle@candle.fmph.uniba.sk
DTSTAMP:20260425T135016Z
CATEGORIES:Výber/Vol
DESCRIPTION:Výber/Vol\n\nVyučujúci:\n - J. Pačuta\n
DTSTART;TZID=Europe/Bratislava:20260219T122000
DTEND;TZID=Europe/Bratislava:20260219T135000
LOCATION:M-IV
RRULE:FREQ=WEEKLY;UNTIL=20260523T000000Z
SUMMARY:Cvičenia z matematiky (4)
END:VEVENT
BEGIN:VEVENT
UID:lesson(473)-semester(022026-052026)-candle@candle.fmph.uniba.sk
DTSTAMP:20260425T135016Z
CATEGORIES:Výber/Vol
DESCRIPTION:Výber/Vol\n\nVyučujúci:\n - J. Pačuta\n
DTSTART;TZID=Europe/Bratislava:20260219T122000
DTEND;TZID=Europe/Bratislava:20260219T135000
LOCATION:M-IV
RRULE:FREQ=WEEKLY;UNTIL=20260523T000000Z
SUMMARY:Cvičenie z komplexnej analýzy
END:VEVENT
BEGIN:VEVENT
UID:lesson(469)-semester(022026-052026)-candle@candle.fmph.uniba.sk
DTSTAMP:20260425T135016Z
CATEGORIES:Prednáška
DESCRIPTION:Prednáška\n\nVyučujúci:\n - J. Jaroš\n
DTSTART;TZID=Europe/Bratislava:20260219T140000
DTEND;TZID=Europe/Bratislava:20260219T153000
LOCATION:M-IV
RRULE:FREQ=WEEKLY;UNTIL=20260523T000000Z
SUMMARY:Biomatematika (2)
END:VEVENT
BEGIN:VEVENT
UID:lesson(69)-semester(022026-052026)-candle@candle.fmph.uniba.sk
DTSTAMP:20260425T135016Z
CATEGORIES:Kurz
DESCRIPTION:Kurz\n\nVyučujúci:\n - J. Havlíčková\n
DTSTART;TZID=Europe/Bratislava:20260219T163000
DTEND;TZID=Europe/Bratislava:20260219T184500
LOCATION:M-IV
RRULE:FREQ=WEEKLY;UNTIL=20260523T000000Z
SUMMARY:Vybrané partie z matematickej analýzy (2)
END:VEVENT
BEGIN:VEVENT
UID:lesson(1153)-semester(022026-052026)-candle@candle.fmph.uniba.sk
DTSTAMP:20260425T135016Z
CATEGORIES:Prednáška
DESCRIPTION:Prednáška\n\nVyučujúci:\n - K. Janková\n
DTSTART;TZID=Europe/Bratislava:20260220T090000
DTEND;TZID=Europe/Bratislava:20260220T103000
LOCATION:M-IV
RRULE:FREQ=WEEKLY;UNTIL=20260523T000000Z
SUMMARY:Náhodné dynamické systémy
END:VEVENT
END:VCALENDAR
