BEGIN:VCALENDAR
VERSION:2.0
PRODID:-//candle.fmph.uniba.sk//NONSGML kigkonsult.se iCalcreator 2.16.12//
METHOD:PUBLISH
X-WR-CALNAME:M-223
X-WR-CALDESC:Rozvrh hodín vyexportovaný pomocou Candle\, https://github.com
 /fmfi-svt/candle
X-WR-TIMEZONE:Europe/Bratislava
BEGIN:VEVENT
UID:lesson(765)-semester(022026-052026)-candle@candle.fmph.uniba.sk
DTSTAMP:20260424T212358Z
CATEGORIES:Prednáška
DESCRIPTION:Prednáška\n\nVyučujúci:\n - H. Šmitala Mizerová\n
DTSTART;TZID=Europe/Bratislava:20260217T095000
DTEND;TZID=Europe/Bratislava:20260217T112000
LOCATION:M-223
RRULE:FREQ=WEEKLY;UNTIL=20260523T000000Z
SUMMARY:Numerické metódy riešenia obyčajných diferenciálnych rovníc
END:VEVENT
BEGIN:VEVENT
UID:lesson(789)-semester(022026-052026)-candle@candle.fmph.uniba.sk
DTSTAMP:20260424T212358Z
CATEGORIES:Prednáška
DESCRIPTION:Prednáška\n\nVyučujúci:\n - H. Šmitala Mizerová\n
DTSTART;TZID=Europe/Bratislava:20260217T145000
DTEND;TZID=Europe/Bratislava:20260217T162000
LOCATION:M-223
RRULE:FREQ=WEEKLY;UNTIL=20260523T000000Z
SUMMARY:Numerická analýza parciálnych diferenciálnych rovníc (1)
END:VEVENT
BEGIN:VEVENT
UID:lesson(768)-semester(022026-052026)-candle@candle.fmph.uniba.sk
DTSTAMP:20260424T212358Z
CATEGORIES:Prednáška
DESCRIPTION:Prednáška\n\nVyučujúci:\n - H. Šmitala Mizerová\n
DTSTART;TZID=Europe/Bratislava:20260218T095000
DTEND;TZID=Europe/Bratislava:20260218T112000
LOCATION:M-223
RRULE:FREQ=WEEKLY;UNTIL=20260523T000000Z
SUMMARY:Numerické metódy zachovania
END:VEVENT
BEGIN:VEVENT
UID:lesson(778)-semester(022026-052026)-candle@candle.fmph.uniba.sk
DTSTAMP:20260424T212358Z
CATEGORIES:Výber/Vol
DESCRIPTION:Výber/Vol\n\nVyučujúci:\n - J. Babušíková\n
DTSTART;TZID=Europe/Bratislava:20260218T131000
DTEND;TZID=Europe/Bratislava:20260218T144000
LOCATION:M-223
RRULE:FREQ=WEEKLY;UNTIL=20260523T000000Z
SUMMARY:Numerická matematika pre grafikov
END:VEVENT
BEGIN:VEVENT
UID:lesson(779)-semester(022026-052026)-candle@candle.fmph.uniba.sk
DTSTAMP:20260424T212358Z
CATEGORIES:Prednáška
DESCRIPTION:Prednáška\n\nVyučujúci:\n - J. Babušíková\n
DTSTART;TZID=Europe/Bratislava:20260218T131000
DTEND;TZID=Europe/Bratislava:20260218T144000
LOCATION:M-223
RRULE:FREQ=WEEKLY;UNTIL=20260523T000000Z
SUMMARY:Diferenčné metódy riešenia diferenciálnych rovníc
END:VEVENT
BEGIN:VEVENT
UID:lesson(491)-semester(022026-052026)-candle@candle.fmph.uniba.sk
DTSTAMP:20260424T212358Z
CATEGORIES:Výber/Vol
DESCRIPTION:Výber/Vol\n\nVyučujúci:\n - A. Kasanická Straková\n - J. Trogov
 á\n
DTSTART;TZID=Europe/Bratislava:20260218T154000
DTEND;TZID=Europe/Bratislava:20260218T171000
LOCATION:M-223
RRULE:FREQ=WEEKLY;UNTIL=20260523T000000Z
SUMMARY:Finančné plánovanie - osobné a rodinné financie
END:VEVENT
BEGIN:VEVENT
UID:lesson(775)-semester(022026-052026)-candle@candle.fmph.uniba.sk
DTSTAMP:20260424T212358Z
CATEGORIES:Prednáška
DESCRIPTION:Prednáška\n\nVyučujúci:\n - R. Kollár\n
DTSTART;TZID=Europe/Bratislava:20260219T095000
DTEND;TZID=Europe/Bratislava:20260219T112000
LOCATION:M-223
RRULE:FREQ=WEEKLY;UNTIL=20260523T000000Z
SUMMARY:Parciálne diferenciálne rovnice (2)
END:VEVENT
BEGIN:VEVENT
UID:lesson(776)-semester(022026-052026)-candle@candle.fmph.uniba.sk
DTSTAMP:20260424T212358Z
CATEGORIES:Cvičenie
DESCRIPTION:Cvičenie\n\nVyučujúci:\n - R. Kollár\n
DTSTART;TZID=Europe/Bratislava:20260219T122000
DTEND;TZID=Europe/Bratislava:20260219T135000
LOCATION:M-223
RRULE:FREQ=WEEKLY;UNTIL=20260523T000000Z
SUMMARY:Parciálne diferenciálne rovnice (2)
END:VEVENT
BEGIN:VEVENT
UID:lesson(10)-semester(022026-052026)-candle@candle.fmph.uniba.sk
DTSTAMP:20260424T212358Z
CATEGORIES:Seminár
DESCRIPTION:Seminár\n\nVyučujúci:\n - P. Quittner\n
DTSTART;TZID=Europe/Bratislava:20260219T140000
DTEND;TZID=Europe/Bratislava:20260219T161500
LOCATION:M-223
RRULE:FREQ=WEEKLY;UNTIL=20260523T000000Z
SUMMARY:Seminár o diferenciálnych rovniciach a dynamických systémoch
END:VEVENT
END:VCALENDAR
