BEGIN:VCALENDAR
VERSION:2.0
PRODID:-//candle.fmph.uniba.sk//NONSGML kigkonsult.se iCalcreator 2.16.12//
METHOD:PUBLISH
X-WR-CALNAME:M-208
X-WR-CALDESC:Rozvrh hodín vyexportovaný pomocou Candle\, https://github.com
 /fmfi-svt/candle
X-WR-TIMEZONE:Europe/Bratislava
BEGIN:VEVENT
UID:lesson(700)-semester(022026-052026)-candle@candle.fmph.uniba.sk
DTSTAMP:20260424T212423Z
CATEGORIES:Cvičenie
DESCRIPTION:Cvičenie\n\nVyučujúci:\n - A. Mihálik\n
DTSTART;TZID=Europe/Bratislava:20260216T163000
DTEND;TZID=Europe/Bratislava:20260216T180000
LOCATION:M-208
RRULE:FREQ=WEEKLY;UNTIL=20260523T000000Z
SUMMARY:Pokročilá počítačová grafika
END:VEVENT
BEGIN:VEVENT
UID:lesson(699)-semester(022026-052026)-candle@candle.fmph.uniba.sk
DTSTAMP:20260424T212423Z
CATEGORIES:Kurz
DESCRIPTION:Kurz\n\nVyučujúci:\n - A. Mihálik\n
DTSTART;TZID=Europe/Bratislava:20260217T095000
DTEND;TZID=Europe/Bratislava:20260217T112000
LOCATION:M-208
RRULE:FREQ=WEEKLY;UNTIL=20260523T000000Z
SUMMARY:Programovanie Shader programov
END:VEVENT
BEGIN:VEVENT
UID:lesson(588)-semester(022026-052026)-candle@candle.fmph.uniba.sk
DTSTAMP:20260424T212423Z
CATEGORIES:Cvičenie
DESCRIPTION:Cvičenie\n\nPoznámka: 2. skupina\n\nVyučujúci:\n - R. Hurtiš\n
DTSTART;TZID=Europe/Bratislava:20260217T113000
DTEND;TZID=Europe/Bratislava:20260217T130000
LOCATION:M-208
RRULE:FREQ=WEEKLY;UNTIL=20260523T000000Z
SUMMARY:Numerické metódy
END:VEVENT
BEGIN:VEVENT
UID:lesson(590)-semester(022026-052026)-candle@candle.fmph.uniba.sk
DTSTAMP:20260424T212423Z
CATEGORIES:Cvičenie
DESCRIPTION:Cvičenie\n\nPoznámka: 1. skupina\n\nVyučujúci:\n - R. Hurtiš\n
DTSTART;TZID=Europe/Bratislava:20260217T140000
DTEND;TZID=Europe/Bratislava:20260217T153000
LOCATION:M-208
RRULE:FREQ=WEEKLY;UNTIL=20260523T000000Z
SUMMARY:Numerické metódy
END:VEVENT
BEGIN:VEVENT
UID:lesson(642)-semester(022026-052026)-candle@candle.fmph.uniba.sk
DTSTAMP:20260424T212423Z
CATEGORIES:Kurz
DESCRIPTION:Kurz\n\nVyučujúci:\n - Y. Kataieva\n
DTSTART;TZID=Europe/Bratislava:20260218T081000
DTEND;TZID=Europe/Bratislava:20260218T111000
LOCATION:M-208
RRULE:FREQ=WEEKLY;UNTIL=20260523T000000Z
SUMMARY:Pokročilé programovanie v JAVE (JakartaEE)
END:VEVENT
BEGIN:VEVENT
UID:lesson(698)-semester(022026-052026)-candle@candle.fmph.uniba.sk
DTSTAMP:20260424T212423Z
CATEGORIES:Cvičenie
DESCRIPTION:Cvičenie\n\nVyučujúci:\n - A. Mihálik\n
DTSTART;TZID=Europe/Bratislava:20260218T113000
DTEND;TZID=Europe/Bratislava:20260218T130000
LOCATION:M-208
RRULE:FREQ=WEEKLY;UNTIL=20260523T000000Z
SUMMARY:Grafika v reálnom čase a výpočty na GPU
END:VEVENT
BEGIN:VEVENT
UID:lesson(604)-semester(022026-052026)-candle@candle.fmph.uniba.sk
DTSTAMP:20260424T212423Z
CATEGORIES:Cvičenie
DESCRIPTION:Cvičenie\n\nVyučujúci:\n - L. Filová\n
DTSTART;TZID=Europe/Bratislava:20260218T140000
DTEND;TZID=Europe/Bratislava:20260218T153000
LOCATION:M-208
RRULE:FREQ=WEEKLY;UNTIL=20260523T000000Z
SUMMARY:Navrhovanie experimentov
END:VEVENT
BEGIN:VEVENT
UID:lesson(644)-semester(022026-052026)-candle@candle.fmph.uniba.sk
DTSTAMP:20260424T212423Z
CATEGORIES:Cvičenie
DESCRIPTION:Cvičenie\n\nVyučujúci:\n - C. Pizarroso Troncoso\n
DTSTART;TZID=Europe/Bratislava:20260219T131000
DTEND;TZID=Europe/Bratislava:20260219T144000
LOCATION:M-208
RRULE:FREQ=WEEKLY;UNTIL=20260523T000000Z
SUMMARY:Počítačové videnie
END:VEVENT
BEGIN:VEVENT
UID:lesson(605)-semester(022026-052026)-candle@candle.fmph.uniba.sk
DTSTAMP:20260424T212423Z
CATEGORIES:Cvičenie
DESCRIPTION:Cvičenie\n\nVyučujúci:\n - J. Szolgayová\n
DTSTART;TZID=Europe/Bratislava:20260219T154000
DTEND;TZID=Europe/Bratislava:20260219T171000
LOCATION:M-208
RRULE:FREQ=WEEKLY;UNTIL=20260523T000000Z
SUMMARY:Cvičenia z optimálneho riadenia
END:VEVENT
END:VCALENDAR
