BEGIN:VCALENDAR
VERSION:2.0
PRODID:-//candle.fmph.uniba.sk//NONSGML kigkonsult.se iCalcreator 2.16.12//
METHOD:PUBLISH
X-WR-CALNAME:M-120
X-WR-CALDESC:Rozvrh hodín vyexportovaný pomocou Candle\, https://github.com
 /fmfi-svt/candle
X-WR-TIMEZONE:Europe/Bratislava
BEGIN:VEVENT
UID:lesson(985)-semester(022026-052026)-candle@candle.fmph.uniba.sk
DTSTAMP:20260424T212416Z
CATEGORIES:Seminár
DESCRIPTION:Seminár\n\nVyučujúci:\n - A. Ferko\n
DTSTART;TZID=Europe/Bratislava:20260216T081000
DTEND;TZID=Europe/Bratislava:20260216T094000
LOCATION:M-120
RRULE:FREQ=WEEKLY;UNTIL=20260523T000000Z
SUMMARY:Diplomový seminár (1)
END:VEVENT
BEGIN:VEVENT
UID:lesson(987)-semester(022026-052026)-candle@candle.fmph.uniba.sk
DTSTAMP:20260424T212416Z
CATEGORIES:Seminár
DESCRIPTION:Seminár\n\nVyučujúci:\n - A. Ferko\n
DTSTART;TZID=Europe/Bratislava:20260216T122000
DTEND;TZID=Europe/Bratislava:20260216T135000
LOCATION:M-120
RRULE:FREQ=WEEKLY;UNTIL=20260523T000000Z
SUMMARY:Seminár z počítačovej grafiky a geometrie
END:VEVENT
BEGIN:VEVENT
UID:lesson(972)-semester(022026-052026)-candle@candle.fmph.uniba.sk
DTSTAMP:20260424T212416Z
CATEGORIES:Prednáška
DESCRIPTION:Prednáška\n\nVyučujúci:\n - T. Rusin\n
DTSTART;TZID=Europe/Bratislava:20260216T140000
DTEND;TZID=Europe/Bratislava:20260216T153000
LOCATION:M-120
RRULE:FREQ=WEEKLY;UNTIL=20260523T000000Z
SUMMARY:Modelovanie kriviek a plôch (4)
END:VEVENT
BEGIN:VEVENT
UID:lesson(988)-semester(022026-052026)-candle@candle.fmph.uniba.sk
DTSTAMP:20260424T212416Z
CATEGORIES:Prednáška
DESCRIPTION:Prednáška\n\nVyučujúci:\n - A. Ferko\n
DTSTART;TZID=Europe/Bratislava:20260217T090000
DTEND;TZID=Europe/Bratislava:20260217T103000
LOCATION:M-120
RRULE:FREQ=WEEKLY;UNTIL=20260523T000000Z
SUMMARY:Grafické systémy\, vizualizácia\, multimédiá
END:VEVENT
BEGIN:VEVENT
UID:lesson(989)-semester(022026-052026)-candle@candle.fmph.uniba.sk
DTSTAMP:20260424T212416Z
CATEGORIES:Prednáška
DESCRIPTION:Prednáška\n\nVyučujúci:\n - P. Chalmovianský\n
DTSTART;TZID=Europe/Bratislava:20260217T104000
DTEND;TZID=Europe/Bratislava:20260217T121000
LOCATION:M-120
RRULE:FREQ=WEEKLY;UNTIL=20260523T000000Z
SUMMARY:Modelovanie kriviek a plôch (2)
END:VEVENT
BEGIN:VEVENT
UID:lesson(939)-semester(022026-052026)-candle@candle.fmph.uniba.sk
DTSTAMP:20260424T212416Z
CATEGORIES:Prednáška
DESCRIPTION:Prednáška\n\nVyučujúci:\n - A. Ferko\n - Z. Berger Haladová\n
DTSTART;TZID=Europe/Bratislava:20260217T131000
DTEND;TZID=Europe/Bratislava:20260217T144000
LOCATION:M-120
RRULE:FREQ=WEEKLY;UNTIL=20260523T000000Z
SUMMARY:Vizuálne dáta kultúrneho dedičstva
END:VEVENT
BEGIN:VEVENT
UID:lesson(2055)-semester(022026-052026)-candle@candle.fmph.uniba.sk
DTSTAMP:20260424T212416Z
CATEGORIES:Cvičenie
DESCRIPTION:Cvičenie\n\nVyučujúci:\n - M. Makovník\n
DTSTART;TZID=Europe/Bratislava:20260217T145000
DTEND;TZID=Europe/Bratislava:20260217T162000
LOCATION:M-120
RRULE:FREQ=WEEKLY;UNTIL=20260523T000000Z
SUMMARY:Úvod do počítačovej grafiky
END:VEVENT
BEGIN:VEVENT
UID:lesson(2056)-semester(022026-052026)-candle@candle.fmph.uniba.sk
DTSTAMP:20260424T212416Z
CATEGORIES:Cvičenie
DESCRIPTION:Cvičenie\n\nVyučujúci:\n - M. Makovník\n
DTSTART;TZID=Europe/Bratislava:20260217T145000
DTEND;TZID=Europe/Bratislava:20260217T162000
LOCATION:M-120
RRULE:FREQ=WEEKLY;UNTIL=20260523T000000Z
SUMMARY:Počítačová grafika (2)
END:VEVENT
BEGIN:VEVENT
UID:lesson(992)-semester(022026-052026)-candle@candle.fmph.uniba.sk
DTSTAMP:20260424T212416Z
CATEGORIES:Seminár
DESCRIPTION:Seminár\n\nVyučujúci:\n - M. Makovník\n
DTSTART;TZID=Europe/Bratislava:20260217T163000
DTEND;TZID=Europe/Bratislava:20260217T180000
LOCATION:M-120
RRULE:FREQ=WEEKLY;UNTIL=20260523T000000Z
SUMMARY:Seminár k diplomovej práci (2)
END:VEVENT
BEGIN:VEVENT
UID:lesson(693)-semester(022026-052026)-candle@candle.fmph.uniba.sk
DTSTAMP:20260424T212416Z
CATEGORIES:Prednáška
DESCRIPTION:Prednáška\n\nVyučujúci:\n - K. Rostás\n
DTSTART;TZID=Europe/Bratislava:20260218T081000
DTEND;TZID=Europe/Bratislava:20260218T094000
LOCATION:M-120
RRULE:FREQ=WEEKLY;UNTIL=20260523T000000Z
SUMMARY:Zobrazovacie metódy (4)
END:VEVENT
BEGIN:VEVENT
UID:lesson(692)-semester(022026-052026)-candle@candle.fmph.uniba.sk
DTSTAMP:20260424T212416Z
CATEGORIES:Cvičenie
DESCRIPTION:Cvičenie\n\nVyučujúci:\n - J. Chalmovianska\n
DTSTART;TZID=Europe/Bratislava:20260218T095000
DTEND;TZID=Europe/Bratislava:20260218T112000
LOCATION:M-120
RRULE:FREQ=WEEKLY;UNTIL=20260523T000000Z
SUMMARY:Zobrazovacie metódy (4)
END:VEVENT
BEGIN:VEVENT
UID:lesson(991)-semester(022026-052026)-candle@candle.fmph.uniba.sk
DTSTAMP:20260424T212416Z
CATEGORIES:Cvičenie
DESCRIPTION:Cvičenie\n\nVyučujúci:\n - R. Bohdal\n
DTSTART;TZID=Europe/Bratislava:20260218T113000
DTEND;TZID=Europe/Bratislava:20260218T130000
LOCATION:M-120
RRULE:FREQ=WEEKLY;UNTIL=20260523T000000Z
SUMMARY:Technické kreslenie s podporou CAD systémov
END:VEVENT
BEGIN:VEVENT
UID:lesson(784)-semester(022026-052026)-candle@candle.fmph.uniba.sk
DTSTAMP:20260424T212416Z
CATEGORIES:Cvičenie
DESCRIPTION:Cvičenie\n\nVyučujúci:\n - T. Rusin\n
DTSTART;TZID=Europe/Bratislava:20260218T140000
DTEND;TZID=Europe/Bratislava:20260218T153000
LOCATION:M-120
RRULE:FREQ=WEEKLY;UNTIL=20260523T000000Z
SUMMARY:Numerické metódy lineárnej algebry
END:VEVENT
BEGIN:VEVENT
UID:lesson(531)-semester(022026-052026)-candle@candle.fmph.uniba.sk
DTSTAMP:20260424T212416Z
CATEGORIES:Kurz
DESCRIPTION:Kurz\n\nVyučujúci:\n - M. Makovník\n
DTSTART;TZID=Europe/Bratislava:20260219T090000
DTEND;TZID=Europe/Bratislava:20260219T120000
LOCATION:M-120
RRULE:FREQ=WEEKLY;UNTIL=20260523T000000Z
SUMMARY:Počítačová geometria (2)
END:VEVENT
BEGIN:VEVENT
UID:lesson(530)-semester(022026-052026)-candle@candle.fmph.uniba.sk
DTSTAMP:20260424T212416Z
CATEGORIES:Kurz
DESCRIPTION:Kurz\n\nVyučujúci:\n - M. Makovník\n
DTSTART;TZID=Europe/Bratislava:20260219T090000
DTEND;TZID=Europe/Bratislava:20260219T120000
LOCATION:M-120
RRULE:FREQ=WEEKLY;UNTIL=20260523T000000Z
SUMMARY:Úvod do geometrického modelovania
END:VEVENT
BEGIN:VEVENT
UID:lesson(994)-semester(022026-052026)-candle@candle.fmph.uniba.sk
DTSTAMP:20260424T212416Z
CATEGORIES:Cvičenie
DESCRIPTION:Cvičenie\n\nVyučujúci:\n - B. Pokorná\n
DTSTART;TZID=Europe/Bratislava:20260219T122000
DTEND;TZID=Europe/Bratislava:20260219T135000
LOCATION:M-120
RRULE:FREQ=WEEKLY;UNTIL=20260523T000000Z
SUMMARY:Modelovanie kriviek a plôch (2)
END:VEVENT
BEGIN:VEVENT
UID:lesson(529)-semester(022026-052026)-candle@candle.fmph.uniba.sk
DTSTAMP:20260424T212416Z
CATEGORIES:Prednáška
DESCRIPTION:Prednáška\n\nVyučujúci:\n - P. Chalmovianský\n
DTSTART;TZID=Europe/Bratislava:20260219T140000
DTEND;TZID=Europe/Bratislava:20260219T161500
LOCATION:M-120
RRULE:FREQ=WEEKLY;UNTIL=20260523T000000Z
SUMMARY:Diferenciálna geometria a jej aplikácie
END:VEVENT
END:VCALENDAR
